BEGIN:VCALENDAR
VERSION:2.0
PRODID:-//Cascadia Training for Professional Development - ECPv6.15.20//NONSGML v1.0//EN
CALSCALE:GREGORIAN
METHOD:PUBLISH
X-WR-CALNAME:Cascadia Training for Professional Development
X-ORIGINAL-URL:https://cascadia-training.com
X-WR-CALDESC:Events for Cascadia Training for Professional Development
REFRESH-INTERVAL;VALUE=DURATION:PT1H
X-Robots-Tag:noindex
X-PUBLISHED-TTL:PT1H
BEGIN:VTIMEZONE
TZID:America/Los_Angeles
BEGIN:DAYLIGHT
TZOFFSETFROM:-0800
TZOFFSETTO:-0700
TZNAME:PDT
DTSTART:20250309T100000
END:DAYLIGHT
BEGIN:STANDARD
TZOFFSETFROM:-0700
TZOFFSETTO:-0800
TZNAME:PST
DTSTART:20251102T090000
END:STANDARD
BEGIN:DAYLIGHT
TZOFFSETFROM:-0800
TZOFFSETTO:-0700
TZNAME:PDT
DTSTART:20260308T100000
END:DAYLIGHT
BEGIN:STANDARD
TZOFFSETFROM:-0700
TZOFFSETTO:-0800
TZNAME:PST
DTSTART:20261101T090000
END:STANDARD
BEGIN:DAYLIGHT
TZOFFSETFROM:-0800
TZOFFSETTO:-0700
TZNAME:PDT
DTSTART:20270314T100000
END:DAYLIGHT
BEGIN:STANDARD
TZOFFSETFROM:-0700
TZOFFSETTO:-0800
TZNAME:PST
DTSTART:20271107T090000
END:STANDARD
END:VTIMEZONE
BEGIN:VEVENT
DTSTART;TZID=America/Los_Angeles:20260212T090000
DTEND;TZID=America/Los_Angeles:20260212T121500
DTSTAMP:20260421T005246
CREATED:20251209T190151Z
LAST-MODIFIED:20251209T190151Z
UID:43905-1770886800-1770898500@cascadia-training.com
SUMMARY:Un-Masking Neurodivergence: Non-Pathologizing Tools for Engaging Neurodivergent Populations
DESCRIPTION:Meets Health Equity or Cultural Competence Continuing Education CE Criteria!\nUn-Masking Neurodivergence: Non-Pathologizing Tools for Engaging Neurodivergent Populations\nPresented by: Hannah Smith\, MA\, LMHC\, CGP\nWhen: Thursday\, February 12th\, 2026 | 9:00 AM – 12:15 PM\, Pacific Time\nWhere: Live on Zoom. You will receive your Zoom link/invitation the week of the workshop.\n\nContinuing Education Credit Hours: 3 CEs (can be used for Health Equity or Cultural Competence CEs) | $99.00\nIf you are in the mental health field and have not had a neurodivergent (ND) client\, you will. \nThis can be daunting to clinicians working within the medical model for several reasons. One may not know if a client is neurodivergent (ND). As ND people often do not see themselves as needing to be “fixed\,” they may not feel certain treatment approaches and/or vocabulary apply to them – and yet they are in our offices seeking help. Many self-diagnose\, and there are as many presentations of neurodivergence as there are neurodivergent people. How do we conceptualize working with this population? \nOne approach is to de-center the neurotypical classification of behavior as the primary issue and focus treatment instead on the identification and remediation of associated trauma. Sadly\, trauma and Neurodivergence often go together\, and one of the primary results of this is masking. \nMasking is the compensatory strategy many ND people develop to manage social expectations. This skill initially allows them to “fit in” better. Over the long term\, though\, the masking takes a huge toll and most often results in extreme mental and emotional fatigue\, chronic and extreme emotional dysregulation\, exacerbated learning difficulties\, and frightening and isolating trauma responses. \nThis session will introduce a non-pathologizing tool that streamlines the conceptualization of neurodivergence and masking by examining ten common areas in which neurodivergent people demonstrate significant differences compared to their neurotypical counterparts. A qualitative and quantitative view of masking will emerge by mapping each unique individual’s experience and comparing it to their social experience. Clients will experience a reduction in shame\, an ability to communicate their experience better\, and a method by which providers can better help them discern their needs in any situation. \nObjectives:\n\nList the ten areas of Neurodivergence in non-pathologizing terms\nCreate a conceptualization of an individual’s neurodivergence with the Wheel of Neurodivergence\nIdentify areas and degrees of masking and create treatment plans to address them\, determining approaches of accommodation versus adaptation\nApply new learning to case studies and real-time practice\n\nREGISTER HERE\n  \n 
URL:https://cascadia-training.com/course/un-masking-neurodivergence-february-2026/
LOCATION:Zoom
CATEGORIES:Cultural Competence,Health Equity,Neurodiversity
ORGANIZER;CN="Hannah Smith MA%2C LMHC%2C CGP (she/her)":MAILTO:hannah@potentialfinders.com
END:VEVENT
END:VCALENDAR