BEGIN:VCALENDAR
VERSION:2.0
PRODID:-//Cascadia Training for Professional Development - ECPv6.15.20//NONSGML v1.0//EN
CALSCALE:GREGORIAN
METHOD:PUBLISH
X-ORIGINAL-URL:https://cascadia-training.com
X-WR-CALDESC:Events for Cascadia Training for Professional Development
REFRESH-INTERVAL;VALUE=DURATION:PT1H
X-Robots-Tag:noindex
X-PUBLISHED-TTL:PT1H
BEGIN:VTIMEZONE
TZID:America/Los_Angeles
BEGIN:DAYLIGHT
TZOFFSETFROM:-0800
TZOFFSETTO:-0700
TZNAME:PDT
DTSTART:20250309T100000
END:DAYLIGHT
BEGIN:STANDARD
TZOFFSETFROM:-0700
TZOFFSETTO:-0800
TZNAME:PST
DTSTART:20251102T090000
END:STANDARD
BEGIN:DAYLIGHT
TZOFFSETFROM:-0800
TZOFFSETTO:-0700
TZNAME:PDT
DTSTART:20260308T100000
END:DAYLIGHT
BEGIN:STANDARD
TZOFFSETFROM:-0700
TZOFFSETTO:-0800
TZNAME:PST
DTSTART:20261101T090000
END:STANDARD
BEGIN:DAYLIGHT
TZOFFSETFROM:-0800
TZOFFSETTO:-0700
TZNAME:PDT
DTSTART:20270314T100000
END:DAYLIGHT
BEGIN:STANDARD
TZOFFSETFROM:-0700
TZOFFSETTO:-0800
TZNAME:PST
DTSTART:20271107T090000
END:STANDARD
END:VTIMEZONE
BEGIN:VEVENT
DTSTART;TZID=America/Los_Angeles:20260420T120000
DTEND;TZID=America/Los_Angeles:20260420T133000
DTSTAMP:20260420T210329
CREATED:20260108T185406Z
LAST-MODIFIED:20260108T185406Z
UID:43984-1776686400-1776691800@cascadia-training.com
SUMMARY:🆕BRAND-NEW! Lunch & Learn: Pandemic Wounds: Understanding and Treating COVID-19 Trauma 🆕
DESCRIPTION:Brand-New!\nLaw & Ethics\, Health Equity\, or Cultural Competence CEs!\nLunch & Learn: Pandemic Wounds: Understanding and Treating COVID-19 Trauma\nPresented by: Dreya Blume\, LCSW\nWhen: Monday\, April 20th\, 2026 | 12:00 pm – 1:30 pm Pacific Time\nWhere: Live on Zoom. You will receive your Zoom link/invitation the week of the workshop.\nContinuing Education Credit Hours: 1.5 CEs Meets Criteria for Law & Ethics\, Health Equity\, or Cultural Competence CEs | $25.00\nThe COVID-19 pandemic has left a profound mark on mental health\, producing grief\, loss\, chronic stress\, and collective trauma that continues to affect clients worldwide. \nThis training introduces psychotherapists to the unique psychological and relational impacts of pandemic-related trauma\, exploring both individual and systemic dimensions. \nParticipants will learn how COVID-19 has shaped coping patterns\, resilience\, and interpersonal dynamics\, while considering ethical and culturally sensitive approaches to treatment. \nThrough case examples\, discussion\, and reflective exercises\, attendees will explore practical strategies to help clients process pandemic-related experiences\, manage lingering stress and anxiety\, and rebuild connection and meaning. Therapists will leave with tools for recognizing pandemic trauma\, fostering resilience\, and integrating these insights into everyday clinical practice. \nWorkshop Objectives:\n\nDevelop an understanding of the psychological\, relational\, and systemic impacts of COVID-19 trauma.\nLearn practical strategies to support clients in processing pandemic-related grief\, stress\, and anxiety.\nIdentify ways to integrate awareness of pandemic trauma into assessment\, treatment planning\, and resilience-building interventions.\n\nREGISTER HERE\n  \n 
URL:https://cascadia-training.com/course/lunch-learn-pandemic-wounds-april-2026/
LOCATION:Zoom
CATEGORIES:Cultural Competence,Ethics,Health Equity,Lunch & Learns
ORGANIZER;CN="Dreya Blume%2C LCSW (she/her)":MAILTO:dreyablume@gmail.com
END:VEVENT
BEGIN:VEVENT
DTSTART;TZID=America/Los_Angeles:20260422T090000
DTEND;TZID=America/Los_Angeles:20260422T121500
DTSTAMP:20260420T210329
CREATED:20251220T002250Z
LAST-MODIFIED:20260409T164249Z
UID:43955-1776848400-1776860100@cascadia-training.com
SUMMARY:SPECIAL SALE! The Science of Gender & Resistance: Empowering Ourselves and Our Clients with Practical Neuroscience
DESCRIPTION:Last-Minute Deal! $30 Off!\nHealthy Equity or Cultural Competence CEs!\nThe Science of Gender & Resistance: Empowering Ourselves and Our Clients with Practical Neuroscience\nPresented by: Hannah Smith\, MA\, LMHC\, CGP\nWhen: Wednesday\, April 22\, 2026| 9:00 am – 12:15 pm Pacific Time\nWhere: Live on Zoom. You will receive workshop details the week of the workshop.\nContinuing Education Credit Hours: 3 Health Equity or Cultural Competence CEs | $95.00 NOW ONLY $65.00!\nGender is a hot-button topic these days\, for sure! There is so much dis- and misinformation out there. There is presently no societal consensus on the meaning of gender identity and the plethora of science behind this. Some people will even go so far as to say there is no science and that it’s “All (simply) about chromosomes.” \nMany of us know on a gut level this is not true\, but we cannot put what we know into words. In fact\, even doctors\, parents\, and transgender and non-binary people themselves can struggle to do so. \nThen\, even if we could explain it\, we face friends\, loved-ones\, and strangers who belittle\, dehumanize\, ignore\, or shut us down whenever we try to explain. Those who know little to nothing about gender will put their own world views over those of a multitude of experts – even to the point of attempting to erase and entire people group. \nAt a time when educating society on this important topic is at an all-time high\, the resistance we face is not only maddening\, it is downright traumatizing. In this training\, you will learn the actual (and abundant) science behind gender development.\nYou will learn to differentiate clearly between sex\, gender\, and orientation and how to articulate it all in a concise and coherent way. \nAND… \nYou will also learn the biology that underlies the resistance LGBTQIA+ people face when attempting to explain themselves. You will gain a new understanding of what is happening inside “the other side” so you or your clients can manage your own nervous system activation during these difficult discussions. Practical techniques will be added to this new understanding to help with emotion regulation and staying empowered. \nObjectives: \n\n1. List and describe the science of gender development and how it differs from sex\,\norientation\, and other aspects of identity\n2. Identify the neurobiological regions in the brain and body responsible for distortions\,\nimplicit bias\, and other psychological resistances\n3. Explain the neurobiological mechanisms of resistance with the aim of helping clients to\nmanage their own activation during difficult discussions\n4. Apply practical\, evidence-based techniques to manage activation and empower more\naccurate storytelling during difficult conversations\n\nREGISTER HERE\n  \n 
URL:https://cascadia-training.com/course/science-of-gender-april-2026/
LOCATION:Zoom
CATEGORIES:Autism Awareness Month 2026,Cultural Competence,Health Equity,Last-Minute Deals,Neurodiversity
ORGANIZER;CN="Hannah Smith MA%2C LMHC%2C CGP (she/her)":MAILTO:hannah@potentialfinders.com
END:VEVENT
BEGIN:VEVENT
DTSTART;TZID=America/Los_Angeles:20260423T090000
DTEND;TZID=America/Los_Angeles:20260423T121500
DTSTAMP:20260420T210329
CREATED:20251118T212317Z
LAST-MODIFIED:20260327T172531Z
UID:43859-1776934800-1776946500@cascadia-training.com
SUMMARY:SPECIAL SALE: Guide to Setting Up Your Business as a Solo Practitioner
DESCRIPTION:Last-Minute Deal! $20 Off!\nGuide to Setting Up Your Business as a Solo Practitioner\nPresented by: Sandy Voit\, MS\, EdS\, LMHC\, CDFA\nWhen: Thursday\, April 23\, 2026 | 9:00 AM – 12:15 PM\, Pacific Time\nWhere: Live on Zoom. You will receive your Zoom link/invitation the week of the workshop.\nContinuing Education Credit Hours: No CEs are offered for this workshop | $65.00 NOW ONLY $45.00!\nThere are many reasons to become a private practitioner: autonomy and independence\, choosing your clients\, flexibility in parenting or caregiving\, etc. We will discuss the financial and business sides of opening your own practice. \nTopics will include what type of tax structure you might want to use\, the various licenses and insurances you may need\, taxes (income\, state\, self-employment\, and unemployment)\, and how to reduce those taxes via optimizing your business deductions. \nOther information and discussion topics include establishing a home office\, why nepotism (hiring a spouse or children) is good\, and start looking at planning for your retirement. \nSubstantial handouts and resources are provided so you can focus on the discussions and not spend all your time taking notes. \nObjectives:\n\nLearn pros and cons of different options of tax structures for your practice.\nDevelop a financial plan for your practice.\nHow to optimize your business deductions.\nLearn advantages of setting up a home office.\nWhy\, if you are married and/or have children\, it is advantageous to hire them.\nStart planning for your own retirement.\n\nREGISTER HERE\n  \n 
URL:https://cascadia-training.com/course/guide-to-setting-up-your-business-as-a-solo-practitioner-april-2026/
LOCATION:Zoom
CATEGORIES:Last-Minute Deals
END:VEVENT
BEGIN:VEVENT
DTSTART;TZID=America/Los_Angeles:20260423T103000
DTEND;TZID=America/Los_Angeles:20260423T133000
DTSTAMP:20260420T210329
CREATED:20260115T232735Z
LAST-MODIFIED:20260115T232907Z
UID:44003-1776940200-1776951000@cascadia-training.com
SUMMARY:🆕 BRAND-NEW! Burnout Management for AuDHD Therapists 🆕
DESCRIPTION:BRAND-NEW!\nAutism Awareness Month Series\nLaw & Ethics\, Health Equity\, or Cultural Competence CEs\nBurnout Management for AuDHD Therapists\nPresented by B Lourenco\, MA\, LMHC (she/her)\nWhen: Thursday\, April 23rd\, 2026 | 10:30 am – 1:30 pm Pacific Time\nWhere: Live via Zoom (you’ll receive the link the week of the workshop)\nContinuing Education Credit Hours: 3 Law & Ethics\, Health Equity\, or Cultural Competency CEs | Cost: $99.00\nLiving as a neurodivergent person in today’s capitalist society means that it is harder than ever to avoid burnout.  Given the nature of the work done by mental health professionals\, AuDHD clinicians have even more to monitor regarding their own burnout. This workshop will explore how to recognize patterns of burnout among AuDHD clinicians and use supports to affirm and support them in non-oppressive ways. \nWORKSHOP OBJECTIVES:\nAfter this course\, attendees will: \n\nLearn how ND burnout can present in phases\nAddress the normalization of burnout and the support needed to offset it\nPractice mapping personal burnout profile\n\nREGISTER HERE\n  \n 
URL:https://cascadia-training.com/course/burnout-management-for-audhd-therapists-april-2026/
LOCATION:Zoom
CATEGORIES:Autism Awareness Month 2026,Cultural Competence,Ethics,Health Equity
ORGANIZER;CN="B Lourenco%2C MA%2C LMHC (she/her)":MAILTO:blourencotherapy@gmail.com
END:VEVENT
BEGIN:VEVENT
DTSTART;TZID=America/Los_Angeles:20260427T090000
DTEND;TZID=America/Los_Angeles:20260427T121500
DTSTAMP:20260420T210329
CREATED:20260116T224233Z
LAST-MODIFIED:20260116T224233Z
UID:44009-1777280400-1777292100@cascadia-training.com
SUMMARY:🆕BRAND-NEW! Acceptance and Commitment Therapy (ACT) for Trauma\, Shame\, Anxiety\, and Depression 🆕
DESCRIPTION:Brand-New!\nAcceptance and Commitment Therapy (ACT) for Trauma\, Shame\, Anxiety\, and Depression\nPresented by: Diane Bigler\, LCSW\, LSCSW\nWhen: Monday\, April 27th\, 2026| 9:00 AM – 12:15 PM\, Pacific Time\nWhere: Live on Zoom. You will receive your Zoom link/invitation the week of the workshop.\nContinuing Education Credit Hours: 3 CEs | $95.00 \nThis Acceptance and Commitment Therapy (ACT) workshop offers clinicians a comprehensive foundation in the theory and application of ACT with a focus on treating depression\, anxiety\, trauma\, and shame. \nParticipants will explore the six core processes of ACT—cognitive defusion\, acceptance\, contact with the present moment\, self-as-context\, values clarification\, and committed action—as tools to enhance psychological flexibility and reduce suffering. \nThe course emphasizes how these processes can help clients move away from avoidance and toward meaningful\, values-based living\, even in the presence of emotional pain. Through experiential exercises\, case examples\, and guided practice\, clinicians will learn to apply ACT interventions to promote healing and resilience in diverse clinical settings. \nWorkshop Objectives:\n\nDemonstrate knowledge of ACT basic principles and psychological flexibility.\nExperiment with at least two ACT interventions in clinical practice.\nReflect on methods and rationale for incorporating ACT interventions into work with clients.\n\nREGISTER HERE\n  \n 
URL:https://cascadia-training.com/course/acceptance-and-commitment-therapy-act-april-2026/
LOCATION:Zoom
ORGANIZER;CN="Diane Bigler%2C LCSW%2C LSCSW (she/her)":MAILTO:diane4ku@yahoo.com
END:VEVENT
BEGIN:VEVENT
DTSTART;TZID=America/Los_Angeles:20260430T090000
DTEND;TZID=America/Los_Angeles:20260430T163000
DTSTAMP:20260420T210329
CREATED:20250924T213411Z
LAST-MODIFIED:20260106T180816Z
UID:43704-1777539600-1777566600@cascadia-training.com
SUMMARY:Youth and Adult Suicide: Recognition\, Assessment\, and Treatment of Suicidality
DESCRIPTION:This workshop meets the suicide assessment requirements for re-licensure.\nYouth and Adult Suicide: Recognition\, Assessment\, and Treatment of Suicidality\nPresented by: Randi Jensen\, MA\, LMHC\, CCDC\nWhen: Thursday\, April 30th\, 2026 | 9:00 am – 4:30 pm Pacific Time\nWhere: Live on Zoom. You will receive your Zoom link/invitation the week of the workshop.\nContinuing Education Credit Hours: 6 CEs | $199.00\nOther 2026 Sessions:\n\n\nFriday\, July 24th\, 2026: MORE INFO & REGISTER>>>\n\n\nFriday\, November 6th\, 2026: MORE INFO & REGISTER>>>\n\n\nThis workshop meets the Washington State suicide assessment requirements for re-licensure. The Washington State Department of Health has approved this 6-hour workshop for its 2022 Model List. This workshop also satisfies the continuing education requirements set by the Department of Health related to suicide assessment\, management\, and treatment.\nHistorically\, mental health treatment for suicidal individuals has involved extensive psychopharmacology\, repeated cognitive behavioral therapy\, positive psychology methods\, stress reduction exercises\, and/or deep therapy into family-of-origin issues\, all proven individually insufficient for the long-term prevention of suicide and suicidality. \nThe World Health Organization (2019) reported decreasing trends in suicide mortality in most countries across the world. Unfortunately\, the mortality of suicide showed an increasing trend in the United States. Between 2000 and 2018\, the suicide rate skyrocketed\, increasing by a whopping 35% (CDC\, 2020). Interestingly\, during the first year of the COVID-19 pandemic\, between 2020 and 2021\, there was a decrease in suicide rates. This was short-lived\, unfortunately\, as suicide rates began to increase again by 2% in 2022 (CDC\, 2022). \nWhat can we do? As clinicians\, we need to understand there are many roads to suicidality — each usually requiring individual intervention. \nThis workshop presents original concepts in the development of suicidality as an ingenious coping mechanism that develops over time. The brain’s neuroplasticity forms neural pathways that underpin the reinforcing suicidal thought pattern. Brain retraining provides the formation of new healthy neural pathways. The healing process is directed\, encouraged\, and supported through a specifically designed peer protocol based on existing evidence-based social support. \nResearch shows that the first suicide attempt is often the first time anyone intervenes. However\, it is generally not the first time the danger has been known. Loved ones just don’t know what to do. They take the suicidal individual to a hospital or professional where the treatment protocol has not changed for decades. When the suicidal individual comes home after the attempt\, family and friends don’t know how to help prevent the next one. The Jensen Suicide Peer Protocol (JSP3)\, based on evidence-based principles\, is a prescribed method for the family members and concerned others to take an active part in the recovery of their loved one. Randi has used this method for decades and has saved lives. \nOBJECTIVES:\n• Describe the extent of suicide in the general and special populations\, including children\, adolescents\, and military personnel.\n• Distinguish what suicidality is and the difference between self-harm and suicidality\n• Explain the psychobiology of suicidality and its progression\n• Articulate warning signs and symptoms using simple and effective suicide assessment tools\n• Express and practice Motivational Interviewing techniques used in counseling suicidal individuals\n• Explain a life-saving peer support protocol and how to implement it\n• Describe ethical considerations\, documentation\, and confidentiality issues. \nThe Washington State Department of Health has approved this 6-hour workshop for its 2022 Model List. This workshop also satisfies the continuing education requirements set by the Department of Health related to suicide assessment\, management\, and treatment. \nRandi consistently receives excellent evaluations from attendees of her workshops. Here are just a few quotes from past attendees:\n*  “I took a different class about suicide a few months back. It was so heavy with content and so focused on how to cross every “T” and dot every “I” that I actually left more anxious about treating suicidal clients than before. In contrast\, Randi’s workshop gave me a broader general understanding and a way to connect the clinical skills I already have to the treatment of these clients. I feel much more confident and competent working with suicidal clients now.” \n* “Ms. Jensen is an extremely competent clinician and presenter. Over my 30+ career in mental health work\, this is one of the very best workshops I have attended. Thank you\, Cascadia and Randi!”  \n* “This is the most impactful continuing education class I’ve ever taken!” \nREGISTER HERE\n  \n 
URL:https://cascadia-training.com/course/youth-and-adult-suicide-april-2026/
LOCATION:Zoom
CATEGORIES:Suicide
END:VEVENT
END:VCALENDAR