BEGIN:VCALENDAR
VERSION:2.0
PRODID:-//Cascadia Training for Professional Development - ECPv6.15.20//NONSGML v1.0//EN
CALSCALE:GREGORIAN
METHOD:PUBLISH
X-ORIGINAL-URL:https://cascadia-training.com
X-WR-CALDESC:Events for Cascadia Training for Professional Development
REFRESH-INTERVAL;VALUE=DURATION:PT1H
X-Robots-Tag:noindex
X-PUBLISHED-TTL:PT1H
BEGIN:VTIMEZONE
TZID:America/Los_Angeles
BEGIN:DAYLIGHT
TZOFFSETFROM:-0800
TZOFFSETTO:-0700
TZNAME:PDT
DTSTART:20250309T100000
END:DAYLIGHT
BEGIN:STANDARD
TZOFFSETFROM:-0700
TZOFFSETTO:-0800
TZNAME:PST
DTSTART:20251102T090000
END:STANDARD
BEGIN:DAYLIGHT
TZOFFSETFROM:-0800
TZOFFSETTO:-0700
TZNAME:PDT
DTSTART:20260308T100000
END:DAYLIGHT
BEGIN:STANDARD
TZOFFSETFROM:-0700
TZOFFSETTO:-0800
TZNAME:PST
DTSTART:20261101T090000
END:STANDARD
BEGIN:DAYLIGHT
TZOFFSETFROM:-0800
TZOFFSETTO:-0700
TZNAME:PDT
DTSTART:20270314T100000
END:DAYLIGHT
BEGIN:STANDARD
TZOFFSETFROM:-0700
TZOFFSETTO:-0800
TZNAME:PST
DTSTART:20271107T090000
END:STANDARD
END:VTIMEZONE
BEGIN:VEVENT
DTSTART;TZID=America/Los_Angeles:20260910T090000
DTEND;TZID=America/Los_Angeles:20260910T163000
DTSTAMP:20260424T033853
CREATED:20260213T172843Z
LAST-MODIFIED:20260213T172843Z
UID:44043-1789030800-1789057800@cascadia-training.com
SUMMARY:Let’s Talk About Sex
DESCRIPTION:Law & Ethics\, Health Equity\, or Cultural Competence CEs\nLet’s Talk About Sex\nPresented by B Lourenco\, MA\, LMHC (she/her)\nWhen: Thursday\, September 10\, 2026 | 9:00 am – 4:30 pm Pacific Time\nWhere: Live via Zoom (you’ll receive the link the week of the workshop)\nContinuing Education Credit Hours: 6 Law & Ethics\, Health Equity\, or Cultural Competency CEs | Cost: $199.00\nResearch shows that if sex isn’t brought up in the first three therapy sessions\, it is unlikely to ever come up in the therapy space. \nA large majority of clinicians don’t know how to talk to their clients about sexuality and\, subsequently\, aren’t able to help their clients with issues about their sex lives. Many clinicians also believe that conversations about sex are out of their scope of practice\, and while this is true in rare cases\, it’s usually not true. \nEvery single person has a relationship with sexuality\, whether they are asexual or very sexually experienced. Everyone we work with as therapists has a relationship with their sexuality. \nDiscussing sexual health is well within our scope as clinicians! It is ethically mandated for clinicians to continue learning and growing so we can offer the best and most tailored support to our clients. \nThat need has prompted the creation of this workshop\, NOT Your Mom’s Sex Ed Class! \nSocialization teaches us that everyone is cis-gender\, hetero\, and monogamous. Everyone is taught that certain sexual behaviors are “normal” and others are “not.” These norms are echoed in the education systems that clinicians are trained in. Because of the shame-filled way our society treats sexuality\, most folks have a complicated relationship with it. \nWe can serve the entire person when we choose to include conversations about sex and sexual health with our clients. \nThis course will go over the basics of human sexuality and anatomy\, including sexual and gender identities\, as well as the roles of desire\, arousal\, and libido. This course will explore types of sexual dysfunction commonly experienced by clients and how to know if a referral is needed. In addition\, this course will identify ways that all clinicians can become more informed and sex-positive with everyday clients. \nObjectives:\n\nLearn the process of expected sexual development over the lifetime\nIdentify sex organs and their functions\nReview gender and gender identities\nReview sexual identities\nDifferentiate between types of arousal\, desire\, and variations in libido\nExplore concepts about sex/porn addiction vs. out-of-control sexual behaviors\nIdentify the role of society in determining sexual norms and expectations\nDefine the impact of expectation of sexual normativity\nExplore common non-normative identities and behaviors\nLearn common types of sexual dysfunction experienced by everyday clients\nDistinguish the role of attachment wounds and trauma on sexual experiences\nIdentify when a referral to a sex therapy specialist is needed\nUnderstand the basics of sex-positive therapy and how to explore sexual topics with clients\nLearn common types of sexual dysfunction experienced by everyday clients\nDistinguish the role of attachment wounds and trauma on sexual experiences\nIdentify when a referral to a sex therapy specialist is needed\nUnderstand the basics of sex-positive therapy and how to explore sexual topics with clients\nDiscuss ethical best practices around client sexuality and identify possible misdiagnoses due to clinician misinformation\nExplore how cultural norms impact sexual attitudes and perpetuate stigmatizing myths\nIdentify the ethics that mandate we provide culturally sensitive and inclusive clinical practices\n\nREGISTER HERE\n  \n 
URL:https://cascadia-training.com/course/lets-talk-about-sex-september-2026/
LOCATION:Zoom
CATEGORIES:Cultural Competence,Ethics,Health Equity
ORGANIZER;CN="B Lourenco%2C MA%2C LMHC (she/her)":MAILTO:blourencotherapy@gmail.com
END:VEVENT
BEGIN:VEVENT
DTSTART;TZID=America/Los_Angeles:20260914T090000
DTEND;TZID=America/Los_Angeles:20260914T121500
DTSTAMP:20260424T033853
CREATED:20260319T160826Z
LAST-MODIFIED:20260319T160826Z
UID:44238-1789376400-1789388100@cascadia-training.com
SUMMARY:Emotional Freedom Techniques (EFT): Tapping for Clinicians
DESCRIPTION:Law & Ethics CEs!\nEmotional Freedom Techniques (EFT): Tapping for Clinicians\nPresented by: Shelley White\, MA\, LMHC\nWhen: Monday\, September 14th\, 2026 | 9:00 am – 12:15 pm Pacific Time\nWhere: Live on Zoom. You will receive your Zoom link/invitation the week of the workshop.\nContinuing Education Credit Hours (NBCC and NASW-WA Approved): 3 Law & Ethics CEs | Cost: $99.00\nEmotion Freedom Techniques (EFT) – also known as EFT Tapping –has become a widely accepted\, effective\, evidence-based strategy to reduce emotional distress and increase physical well-being. Many prominent therapists and psychologists\, including trauma expert Bessel van der Kolk\, use a form of tapping with their clients\, and now you can too. \nEFT Tapping is a technique based on the same science as acupuncture. Since its inception in the late 1980s\, more than 200 research studies supporting its effectiveness have been published. Studies show that Tapping can reduce activity in the amygdala\, up-regulate immune genes\, down-regulate inflammation genes\, increase endorphin release\, and decrease cortisol levels in a very short period of time. Tapping has demonstrated its effectiveness in a variety of ways. It has been shown to increase test scores\, manage phobias\, and reduce pain. Tapping helps with trauma symptoms by safely releasing emotional numbing\, calming fears of vulnerability and connection\, reducing the need to be perfect\, and quieting shame. This workshop provides you with the introductory skills you need to start using basic tapping techniques immediately. \nIn addition to learning how to help clients with this evidence-based intervention\, attendees will also learn how to include Tapping as a technique in their own self-care toolkit. Listening to our clients’ fears\, stress\, anxiety\, and pain can affect our ability to stay calm\, centered\, and peaceful in our own lives. Our self-care is crucial to our ability to offer quality care to our clients\, which is why it is an ethical mandate in the mental health professions. Tapping can help you stay focused and present for your clients and help you to release any intense energy you may be holding after a therapeutic session. \nThrough observation\, lecture\, and practice\, workshop attendees will learn the history of tapping and understand the psychology and science behind its success. Attendees will learn and practice the basic Tapping protocol\, so you will be able to use EFT with your clients—and in your own self-care– immediately. Come earn 3 law & ethics CEs by learning this effective self-regulatory tool—for you AND your clients! \nWorkshop Objectives:\nAfter attending this workshop\, attendees will: \n\nUnderstand the history and origins of EFT Tapping and know that it works by using the same acupressure points and meridians that are used in acupuncture. Understand EFT/Tapping offers an effective\, evidence-based intervention and can easily be introduced into a clinician’s ongoing self-care practice.  (NASW\, 2021; ACA\, 2014; APA\, 2019)\nComprehend that self-care adds to their clinical competency and adheres to the ethical mandate to include self-care in their daily lives to avoid impairment in functioning (NASW\, 2021; ACA\, 2014; APA\, 2019).\nLearn how to introduce Tapping into the therapeutic setting\, communicating with clients about the purpose and use of EFT/Tapping in ways that are both developmentally and culturally appropriate\, aligning with the ethical imperative of informed consent. (NASW\, 2021\, 1.03\, 1/05; ACA\, 1.03\, 2014.)\nUnderstand that EFT Tapping is an evidence-based intervention and be able to discuss positive outcomes from using tapping to increase calm and reduce anxiety\, to improve concentration\, and decrease high blood pressure. EFT Tapping can be used for both sensory/physical and emotional self-regulation.\nObtain continuing education in EFT/Tapping and gain experience in using EFT/Tapping by practicing in triads and following the various protocols for using EFT/Tapping. (APA\, 2019; AMHCA\, 2020; ACA\, 2014; NASW\, 1.03\, 2021).\nLearn that EFT/Tapping ensures the ethical principles of client autonomy and client self-determination by offering an easy-to-use\, effective\, ethical\, and evidence-based technique clients can learn and use on their own to manage physical and/or emotional symptoms (AAMFT\, 1.1.8\, 2015; NASW\, 1.02\, 1.03\, 2021; ACA\, 2014\, 1.; APA\, 2019).\nDemonstrate their ethical compliance with the ethical and legal standards that mental health practitioners work toward competency when introducing a new treatment or clinical skill. (ACA\, 2014; NASW\, 2019; AAMFT\, 1.1.2\, 2015).\nUnderstand how to explain EFT/Tapping in clear and understandable language to their clients\, demonstrating their adherence to ethical standards when introducing a new clinical tool or technique. (ACA\, 2014\, A. 2.d).\n\nREGISTER HERE\n  \n  \n 
URL:https://cascadia-training.com/course/eft-tapping-for-clinicians-september-2026/
LOCATION:Zoom
CATEGORIES:Ethics
END:VEVENT
BEGIN:VEVENT
DTSTART;TZID=America/Los_Angeles:20260928T130000
DTEND;TZID=America/Los_Angeles:20260928T160000
DTSTAMP:20260424T033854
CREATED:20260311T172400Z
LAST-MODIFIED:20260311T172523Z
UID:44207-1790600400-1790611200@cascadia-training.com
SUMMARY:🆕 BRAND-NEW! Ethics of Somatic Therapies: Boundaries\, Consent\, and Scope of Practice 🆕
DESCRIPTION:Brand-New!\nMeets Professional Roles & Boundaries or Law & Ethics CE requirements!\nEthics of Somatic Therapies: Boundaries\, Consent\, and Scope of Practice\nPresented by: Dreya Blume\, LCSW\nWhen: Monday\, Septemer 28th\, 2026 | 1:00 pm – 4:00 pm Pacific Time\nWhere: Live on Zoom. You will receive your Zoom link/invitation the week of the workshop.\nContinuing Education Credit Hours (NBCC and NASW-WA Approved): 3 CEs – counts as Professional Roles & Boundaries or Law & Ethics CEs | $99.00\nSomatic therapies are increasingly integrated into psychotherapy as clinicians seek ways to address trauma\, stress\, and emotional regulation through the body. However\, incorporating body-based interventions raises important ethical questions related to professional boundaries\, informed consent\, cultural sensitivity\, and the scope of practice. \nThis continuing education workshop explores the ethical use of somatic approaches within psychotherapy\, helping clinicians thoughtfully integrate body-oriented techniques while remaining aligned with professional standards of care. Together\, we will examine common ethical dilemmas that arise when working with breath\, movement\, grounding exercises\, and other somatic practices\, particularly regarding touch\, power dynamics\, trauma sensitivity\, and client autonomy. \nThe workshop will provide practical guidance for obtaining meaningful informed consent\, documenting somatic interventions\, and recognizing when referrals or additional training are necessary. Through case examples\, reflective discussion\, and ethical decision-making frameworks\, clinicians will strengthen their ability to incorporate somatic awareness into therapy while protecting client safety and maintaining clear professional boundaries. \nWorkshop Objectives:\n\nDefine key ethical considerations involved in integrating somatic therapies into psychotherapy\, including issues related to boundaries\, consent\, and scope of practice.\nIdentify potential ethical risks and clinical dilemmas that may arise when using body-based interventions such as breathwork\, grounding exercises\, or movement practices.\nDescribe best practices for obtaining informed consent and maintaining clear therapeutic boundaries when incorporating somatic techniques into clinical work.\nApply ethical decision-making frameworks to determine when somatic interventions are appropriate within a clinician’s scope of practice and when consultation\, referral\, or additional training may be necessary.\n\nREGISTER HERE\n  \n  \n 
URL:https://cascadia-training.com/course/ethics-of-somatic-therapies-boundaries-consent-and-scope-of-practice-september-2026/
LOCATION:Zoom
CATEGORIES:Ethics,Professional Roles & Boundaries
ORGANIZER;CN="Dreya Blume%2C LCSW (she/her)":MAILTO:dreyablume@gmail.com
END:VEVENT
END:VCALENDAR