BEGIN:VCALENDAR
VERSION:2.0
PRODID:-//Cascadia Training for Professional Development - ECPv6.15.20//NONSGML v1.0//EN
CALSCALE:GREGORIAN
METHOD:PUBLISH
X-ORIGINAL-URL:https://cascadia-training.com
X-WR-CALDESC:Events for Cascadia Training for Professional Development
REFRESH-INTERVAL;VALUE=DURATION:PT1H
X-Robots-Tag:noindex
X-PUBLISHED-TTL:PT1H
BEGIN:VTIMEZONE
TZID:America/Los_Angeles
BEGIN:DAYLIGHT
TZOFFSETFROM:-0800
TZOFFSETTO:-0700
TZNAME:PDT
DTSTART:20250309T100000
END:DAYLIGHT
BEGIN:STANDARD
TZOFFSETFROM:-0700
TZOFFSETTO:-0800
TZNAME:PST
DTSTART:20251102T090000
END:STANDARD
BEGIN:DAYLIGHT
TZOFFSETFROM:-0800
TZOFFSETTO:-0700
TZNAME:PDT
DTSTART:20260308T100000
END:DAYLIGHT
BEGIN:STANDARD
TZOFFSETFROM:-0700
TZOFFSETTO:-0800
TZNAME:PST
DTSTART:20261101T090000
END:STANDARD
BEGIN:DAYLIGHT
TZOFFSETFROM:-0800
TZOFFSETTO:-0700
TZNAME:PDT
DTSTART:20270314T100000
END:DAYLIGHT
BEGIN:STANDARD
TZOFFSETFROM:-0700
TZOFFSETTO:-0800
TZNAME:PST
DTSTART:20271107T090000
END:STANDARD
END:VTIMEZONE
BEGIN:VEVENT
DTSTART;TZID=America/Los_Angeles:20260422T090000
DTEND;TZID=America/Los_Angeles:20260422T121500
DTSTAMP:20260420T171658
CREATED:20251220T002250Z
LAST-MODIFIED:20260409T164249Z
UID:43955-1776848400-1776860100@cascadia-training.com
SUMMARY:SPECIAL SALE! The Science of Gender & Resistance: Empowering Ourselves and Our Clients with Practical Neuroscience
DESCRIPTION:Last-Minute Deal! $30 Off!\nHealthy Equity or Cultural Competence CEs!\nThe Science of Gender & Resistance: Empowering Ourselves and Our Clients with Practical Neuroscience\nPresented by: Hannah Smith\, MA\, LMHC\, CGP\nWhen: Wednesday\, April 22\, 2026| 9:00 am – 12:15 pm Pacific Time\nWhere: Live on Zoom. You will receive workshop details the week of the workshop.\nContinuing Education Credit Hours: 3 Health Equity or Cultural Competence CEs | $95.00 NOW ONLY $65.00!\nGender is a hot-button topic these days\, for sure! There is so much dis- and misinformation out there. There is presently no societal consensus on the meaning of gender identity and the plethora of science behind this. Some people will even go so far as to say there is no science and that it’s “All (simply) about chromosomes.” \nMany of us know on a gut level this is not true\, but we cannot put what we know into words. In fact\, even doctors\, parents\, and transgender and non-binary people themselves can struggle to do so. \nThen\, even if we could explain it\, we face friends\, loved-ones\, and strangers who belittle\, dehumanize\, ignore\, or shut us down whenever we try to explain. Those who know little to nothing about gender will put their own world views over those of a multitude of experts – even to the point of attempting to erase and entire people group. \nAt a time when educating society on this important topic is at an all-time high\, the resistance we face is not only maddening\, it is downright traumatizing. In this training\, you will learn the actual (and abundant) science behind gender development.\nYou will learn to differentiate clearly between sex\, gender\, and orientation and how to articulate it all in a concise and coherent way. \nAND… \nYou will also learn the biology that underlies the resistance LGBTQIA+ people face when attempting to explain themselves. You will gain a new understanding of what is happening inside “the other side” so you or your clients can manage your own nervous system activation during these difficult discussions. Practical techniques will be added to this new understanding to help with emotion regulation and staying empowered. \nObjectives: \n\n1. List and describe the science of gender development and how it differs from sex\,\norientation\, and other aspects of identity\n2. Identify the neurobiological regions in the brain and body responsible for distortions\,\nimplicit bias\, and other psychological resistances\n3. Explain the neurobiological mechanisms of resistance with the aim of helping clients to\nmanage their own activation during difficult discussions\n4. Apply practical\, evidence-based techniques to manage activation and empower more\naccurate storytelling during difficult conversations\n\nREGISTER HERE\n  \n 
URL:https://cascadia-training.com/course/science-of-gender-april-2026/
LOCATION:Zoom
CATEGORIES:Autism Awareness Month 2026,Cultural Competence,Health Equity,Last-Minute Deals,Neurodiversity
ORGANIZER;CN="Hannah Smith MA%2C LMHC%2C CGP (she/her)":MAILTO:hannah@potentialfinders.com
END:VEVENT
BEGIN:VEVENT
DTSTART;TZID=America/Los_Angeles:20260430T090000
DTEND;TZID=America/Los_Angeles:20260430T120000
DTSTAMP:20260420T171658
CREATED:20260108T212410Z
LAST-MODIFIED:20260327T173015Z
UID:43990-1777539600-1777550400@cascadia-training.com
SUMMARY:🆕 SPECIAL SALE! Sacred Moments in Therapy: Designing Rituals for Growth and Healing 🆕
DESCRIPTION:Last-Minute Deal! $30 Off!\nBrand-New!\nHealth Equity or Cultural Competence CEs!\nSacred Moments in Therapy: Designing Rituals for Growth and Healing\nPresented by: Dreya Blume\, LCSW\nWhen: Thursday\, April 30th\, 2026 | 9:00 am – 12:00 pm Pacific Time\nWhere: Live on Zoom. You will receive your Zoom link/invitation the week of the workshop.\nContinuing Education Credit Hours: 3 CEs – Meets Criteria for Health Equity or Cultural Competence CEs | $99.00 NOW ONLY $69.00!\nRituals can be a powerful bridge between intention and transformation\, providing clients with structured\, meaningful ways to mark transitions\, process grief\, celebrate growth\, or cultivate self-compassion. \nThis training introduces psychotherapists to the thoughtful design and ethical integration of rituals into therapy\, emphasizing practices that honor clients’ values\, cultural backgrounds\, and spiritual perspectives. Participants will explore how rituals can enhance engagement\, reflection\, and healing\, while maintaining professional boundaries and clinical integrity. \nThrough case examples\, discussion\, and guided exercises\, attendees will learn how to co-create therapeutic rituals that support client empowerment\, personal insight\, and emotional processing. Therapists will leave with practical tools to integrate rituals into sessions\, helping clients deepen connection to themselves\, their intentions\, and their paths toward growth. \nObjectives \n\nDevelop an understanding of the role of ritual in therapeutic growth and healing.\nLearn strategies for designing and integrating ethically-informed\, culturally sensitive rituals into therapy.\nIdentify ways to use ritual to support client insight\, self-compassion\, and transformative change\n\nREGISTER HERE\n  \n 
URL:https://cascadia-training.com/course/sacred-moments-in-therapy-april-2026/
LOCATION:Zoom
CATEGORIES:Cultural Competence,Health Equity,Last-Minute Deals
ORGANIZER;CN="Dreya Blume%2C LCSW (she/her)":MAILTO:dreyablume@gmail.com
END:VEVENT
BEGIN:VEVENT
DTSTART;TZID=America/Los_Angeles:20260504T090000
DTEND;TZID=America/Los_Angeles:20260601T121500
DTSTAMP:20260420T171658
CREATED:20260216T185320Z
LAST-MODIFIED:20260409T164320Z
UID:44053-1777885200-1780316100@cascadia-training.com
SUMMARY:Therapeutic Neuroscience Certificate Series: A Brain Science-Based Approach to Cognitive & Somatic Treatment of Common Mental Health Disorders🆕
DESCRIPTION:Popular Certificate Program!\nTherapeutic Neuroscience Certificate Series: A Brain Science-Based Approach to Cognitive & Somatic Treatment of Common Mental Health Disorders\nPresented by: Hannah Smith\, MA\, LMHC\, CGP\nWhen: Monday\, May 4th – Monday\, June 1st\, 2026 | 4-Week Series | Meets Four Consecutive Mondays except Monday\, May 25th | 9:00 am – 12:15 pm Pacific Time (same time each Monday)\nWhere: Live on Zoom. You will receive your Zoom link/invitation the week of the workshop.\nContinuing Education Credit Hours: 12 CEs | $499.00\n***see below for payment options\nAre you ready for something really different? \nAs a provider of mental health treatment\, it is important to stay informed about the latest advances in treatment. Beyond being a requirement of most licensure boards\, research shows that improving practitioner competence decreases burnout and increases job satisfaction! \nOne of the hottest topics is the integration of neuroscience into mental health treatment. You heard this\, and you want to learn more – but it feels daunting and overwhelming in the face of all you have to deal with every day. The prospect just does not sound pleasant. \nSo\, why not make it easier? \nIntroducing Cascadia’s brain science certificate series! \nIn keeping with not only teaching to the brain in presentation style\, but also in the ability to take in and retain\, Cascadia now offers this in a series of three-hour sessions over a few weeks! The benefits are many! \nFirst\, the course is separated into four discrete and highly useful sessions: \nWeek One: Pertinent Therapeutic Neuroscience \nWeek Two: Applications in Therapeutic Neuroscience \nWeek Three: Neuroscience-informed Cognitive Approaches  \nWeek Four: Neuroscience-informed Somatic Approaches.  \nBesides three-hour time blocks being easier to manage than an entire day\, you will also have lots of time to think about\, try things\, and ask questions in between sessions\, as skill support inquiries are encouraged! \nNone of us wants to spend our time learning only to come away tired and feeling that we could not retain what we learned.  In this format\, you will have the chance to really sink your teeth into the material and build a sense of competence! \nAll this will take place in the comfort of your own home! \nIf you have wanted to take your practice to the next level by incorporating cutting-edge neuroscience\, then this is the course for you! Whether you aren’t quite sure what the amygdala really is or you are a PhD in Neuropsychology – this practical\, application-based course will appropriately challenge and inspire you! \nWorkshop Objectives:\n\nLearn Pertinent Brain Systems & Structures and Describe Their Practical Application to Clinical Work\nIdentify & Examine the Neurological Processes Underlying Common Mental Health Disorders\, Such as Anxiety\, Depression\, Personality Disorders & Trauma.\nRelate Specific Dysfunctional Behavioral Presentations to Associated Brain Functions to Improve Diagnosis & Pinpoint Effective Treatment Modalities\nApply the Neuroscience-informed Lens to Current Cognitive-based (ACT\, CBT\, IFS)\, Mindfulness-based (DBT\, MBT)\, & Somatic-based (EFT\, Expressive Therapies) Theories You Already Know Increasing Insights to Improve Treatment Trajectory & Outcomes\nEvaluate the differences between amygdala-based and cortex-based symptoms\nApply proven strategies for calming and training the amygdala.\nUse Practical Neuroscience-informed Techniques\, such as Threat Analysis\, to Improve Client Understanding\, Compliance\, and Outcomes\nConvey Difficult Science Terms & Concepts in an Understandable\, Client-friendly Manner\n\nPAYMENT OPTIONS\nCascadia Training values quality continuing education that is accessible\, inclusive\, and without barriers to all. We never want the cost of our workshops to be a barrier to attending one of our workshops\, particularly our multi-session workshops. \nWe offer several options to make our workshops cost-inclusive: payment plans\, a limited number of full and partial scholarships\, discounts for students\, and discounts for early professionals. \nFor payment plans\, you can select paying 50% today and the remaining 50% will automatically be processed from your credit card on the last day of June.  \nPlease email us at hello@cascadiatraining.org to inquire about discounts and scholarships. \nREGISTER HERE\n  \n 
URL:https://cascadia-training.com/course/therapeutic-neuroscience-certificate-may-2026/
LOCATION:Zoom
CATEGORIES:Autism Awareness Month 2026,Neurodiversity
ORGANIZER;CN="Hannah Smith MA%2C LMHC%2C CGP (she/her)":MAILTO:hannah@potentialfinders.com
END:VEVENT
BEGIN:VEVENT
DTSTART;TZID=America/Los_Angeles:20260508T090000
DTEND;TZID=America/Los_Angeles:20260508T163000
DTSTAMP:20260420T171658
CREATED:20260116T231857Z
LAST-MODIFIED:20260116T231857Z
UID:44016-1778230800-1778257800@cascadia-training.com
SUMMARY:Love What Hurts
DESCRIPTION:Back by Popular Demand!\nLove What Hurts\nPresented by: Lisha Song\, LMHC\nWhen: Friday\, May 8th\, 2026 | 9:00 AM – 4:30 PM\, Pacific Time\nWhere: Live on Zoom. You will receive your Zoom link/invitation the week of the workshop.\nContinuing Education Credit Hours: 6 CEs |$190.00\nIn this workshop\, attendees will learn how to notice where emotions are felt in the body from an observer’s point of view\, recognize negative beliefs that are attached to these emotions (i.e.\, “I’m not good enough”)\, and identify the past events/experiences that are related to these emotions. Attendees will also learn how to neutralize these emotions and negative cognitions through an ego-state practice called the “Clearing Exercise.” \nClinicians who attend will learn techniques to enhance positive feelings\, sensations\, or beliefs through bilateral stimulation (tapping). \nBy the end of this one-day training\, you will be able to teach your clients these skills\, so they can experience self-compassion and clarity of thought\, and learn to follow their own inner guidance to make better decisions.  \nWORKSHOP OBJECTIVES: \n\nUnderstanding how the body stores past emotional wounding and traumatic experiences\, noticing where those emotions are felt specifically in the body by becoming an “observer” of the experience\, and learning how to neutralize those feelings and sensations.\n Exercising the power of imagination or a “felt sense” and befriending those wounded parts of Self\, and learn how to nurture those parts.\nUnderstanding our ever-sophisticated nervous system through the lens of the Polyvagal Theory and utilizing its tools to further our management of it.\nRecognizing how negative beliefs about the self manifest over time and become part of our identity.\nLearning to awaken the unconscious through the “sixth sense” of intuition and spiritual connection\, and adopt more trust in your own inner knowing. When nervous systems are hijacked by emotional triggers\, we tend not to trust our intuition.\nFeeling more empowered and compassionate when triggers from past experiences hijack the nervous system by practicing Lisha’s Clearing Exercise and teaching it to clients.\n\nREGISTER HERE\n  \n 
URL:https://cascadia-training.com/course/love-what-hurts-may-2026/
LOCATION:Zoom
END:VEVENT
BEGIN:VEVENT
DTSTART;TZID=America/Los_Angeles:20260515T090000
DTEND;TZID=America/Los_Angeles:20260515T163000
DTSTAMP:20260420T171658
CREATED:20250902T192651Z
LAST-MODIFIED:20251118T213322Z
UID:43644-1778835600-1778862600@cascadia-training.com
SUMMARY:Tarot and Therapy: Intuition and Metaphor
DESCRIPTION:Law & Ethics CEs!\nTarot and Therapy: Intuition and Metaphor\nPresented by: Rebecca Bloom\, LMHC (she/her)\nWhen: Friday\, May 15th\, 2026 | 9:00 am – 4:30 pm Pacific Time\nWhere: Live in-person at the Shoreline Center\nContinuing Education Credit Hours: 6 CEs – 3 Law & Ethics CEs | $199.00\, which includes $174.00 tuition plus $25.00 for Ephemera Art Supply Packs Created by Rebecca Bloom especially for Cascadia Training Registrants. \nWhy is Tarot so popular right now? Are your clients coming in talking about the card they pulled before the session and you have no idea what that means? Have you used tarot for years for your own well being and would love to use it with mental health clients but not sure how? \nMost clients come into therapy saying that they do not have access to their intuition and are not sure how to trust what the right choices are to make in their lives. Using a single card pulled from a tarot deck\, and exploring the client’s meaning of the card\, clients can begin to feel connected to their own sense of self\, clients can find new ways to safely explore difficult experiences and find ways to test out feeling grounded again. \nStarting with the Jungian concepts of Archetypes we will look at how the collective sense of self represents over these twelve types of being.  Then we will explore the history and uses of tarot. These seventy-eight cards have been used for hundreds of years. Using the Rider-Waite-Smith deck\, from 1909\, as a starting place we will look at many of the decks available today and why people turn to them every day or when times get difficult. \nWe will explore intuition and how to trust our own sense of knowing. In this hands-on workshop\, you will make five of your own cards.  Exploring the major arcana\, and the suits of cups\, pentacles\, swords and wands we will learn the journeys of each of these sets. \nObjectives:\n\nLearn archetypes of Jung and Tarot.\nLearn why the creative process soothes the body and the mind.\nFind materials you will be comfortable using with your clients.\nUse art making for your own self-care.\n\nREGISTER HERE
URL:https://cascadia-training.com/course/tarot-and-therapy-may-2026/
LOCATION:Shoreline Center\, 18560 1st Ave NE\, Shoreline\, WA\, 98155\, United States
CATEGORIES:Ethics
ORGANIZER;CN="Rebecca Bloom%2C LMHC (she/her)":MAILTO:rebecca.bloom.seattle@gmail.com
GEO:47.7655581;-122.327469
X-APPLE-STRUCTURED-LOCATION;VALUE=URI;X-ADDRESS=Shoreline Center 18560 1st Ave NE Shoreline WA 98155 United States;X-APPLE-RADIUS=500;X-TITLE=18560 1st Ave NE:geo:-122.327469,47.7655581
END:VEVENT
BEGIN:VEVENT
DTSTART;TZID=America/Los_Angeles:20260717T090000
DTEND;TZID=America/Los_Angeles:20260717T163000
DTSTAMP:20260420T171658
CREATED:20260226T193118Z
LAST-MODIFIED:20260226T193118Z
UID:44102-1784278800-1784305800@cascadia-training.com
SUMMARY:🆕 Brand-New! The Major Arcana and the Hero’s Journey: Discovering Your Story Through Tarot 🆕
DESCRIPTION:Brand-New!\nMeets Law & Ethics\, Health Equity\, or Cultural Competence Continuing Education Requirements!\nThe Major Arcana and the Hero’s Journey: Discovering Your Story Through Tarot\nPresented by Rebecca Bloom\, LMHC (she/her)\nWhen: Friday\, July 17th\, 2026 | 9:00 am – 4:30 pm Pacific Time\nWhere: Live on Zoom. You will receive your Zoom link/invitation the week of the workshop.\nContinuing Education Credit Hours: 6 CEs (meets criteria for 2 Law & Ethics and 2 Health Equity or Cultural Competence CEs) | Cost: $199.00\nEvery person is on a journey — one of becoming\, healing\, and finding meaning. The Major Arcana of the Tarot offers a beautiful reflection of this path. These 22 cards tell the story of the Hero’s Journey: the universal process of growth and transformation that mirrors each of our lives. Jung’s model of the hero’s journey is a path that clients can easily relate to in their own lives. In this workshop\, you’ll explore how the Tarot can help clients connect with their path through difficult times. \nThe Major Arcana begins with The Fool\, who takes a leap of faith into the unknown\, and ends with The World\, symbolizing a completed journey. Between these two cards lies the full range of human experience — discovery\, love\, loss\, challenge\, renewal\, and awakening. Each card helps clients reflect on how they learn\, heal\, and grow. \nWorking with these archetypes can help clients who recognize that the transformation is possible and that setbacks are part of the journey. Perhaps you are navigating a “Tower” moment of upheaval\, meeting your “Shadow” in The Devil\, or beginning a new chapter as The Fool once more. Through the imagery of the Tarot\, you will help clients to see their story not as fragmented or confusing\, but as meaningful — a necessary part of an unfolding journey toward wholeness. \nDuring this experiential workshop\, you’ll be guided through meditations\, creative exercises\, and creating Tarot cards. \nTarot\, when used in this way\, is not about prediction; it’s about reflection. It’s a way of accessing unconscious wisdom — the part of you that already knows what healing and integration look like. Jung described this process as individuation: the journey of becoming your fullest\, most authentic self. \nThrough the language of the Major Arcana\, you can learn to trust this inner process\, honor the changes you’re experiencing\, and view your challenges as meaningful steps along your path. Whether you are seeking clarity\, self-compassion\, or a deeper sense of purpose\, the Tarot offers a gentle\, creative way to reconnect with your own story — the myth you are living and the hero you are becoming. \nWorkshop Objectives:\n\nRecognize how the Hero’s Journey helps clients on their healing journey\nUnderstand the lessons of the major arcana through a therapeutic lens\nGain confidence in using tarot in clinical settings.\nHelping clients reconnect with intuition\, purpose\, and inner guidance\nExplore art making for self-care\n\nREGISTER HERE\n  \n 
URL:https://cascadia-training.com/course/major-arcana-heros-journey-july-2026/
LOCATION:Zoom
CATEGORIES:Cultural Competence,Ethics,Health Equity
ORGANIZER;CN="Rebecca Bloom%2C LMHC (she/her)":MAILTO:rebecca.bloom.seattle@gmail.com
END:VEVENT
BEGIN:VEVENT
DTSTART;TZID=America/Los_Angeles:20260814T090000
DTEND;TZID=America/Los_Angeles:20260814T163000
DTSTAMP:20260420T171658
CREATED:20260306T190220Z
LAST-MODIFIED:20260306T190220Z
UID:44169-1786698000-1786725000@cascadia-training.com
SUMMARY:Chronic Pain: Psychological and Somatic Strategies that Offer Relief and Hope
DESCRIPTION:Health Equity or Cultural Competence CEs!\nChronic Pain: Psychological and Somatic Strategies that Offer Relief and Hope\nPresented by: Dreya Blume\, LCSW\nWhen: Friday\, August 14th\, 2026 | 9:00 am – 4:30 pm Pacific Time\nWhere: Live on Zoom. You will receive your Zoom link/invitation the week of the workshop.\nContinuing Education Credit Hours (NBCC and NASW-WA approved): 6 Health Equity or Cultural Competence CEs | $190.00 \nChronic pain is more than a physical symptom – it is a complex interplay of body\, mind\, and emotion that can impact every dimension of a client’s life. Stress\, trauma\, and persistent tension often amplify pain signals\, reinforcing cycles of discomfort\, hypervigilance\, and emotional dysregulation. \nThis in-depth continuing education workshop is designed for psychotherapists who want to bring a mind-body lens to chronic pain treatment. Participants will explore evidence-informed psychological and somatic strategies (including mindfulness\, grounding\, breathwork\, guided imagery\, hypnosis\, Emotional Freedom Technique (EFT)\, Acceptance and Commitment Therapy\, and body awareness interventions) that help reduce pain perception\, support regulation\, and foster resilience. \nAttendees will learn how to help clients shift their relationship with pain\, identify and release tension patterns\, and build self-regulation skills. Therapists will leave with practical tools and strategies for combining psychological insight and somatic techniques\, expanding their ability to guide clients toward relief\, restoration\, and improved quality of life. \nWorkshop Objectives:\n\nDevelop an understanding of how psychological processes and somatic patterns interact in the experience of chronic pain.\nLearn evidence-informed somatic techniques (e.g.\, grounding\, breathwork\, body-awareness practices) that can reduce pain-related stress and support client regulation.\nExplore ways to integrate psychological interventions (e.g.\, cognitive reframing\, mindfulness\, compassion practices) with somatic strategies for holistic pain care.\nBuild skills to recognize and respond to somatic signals of pain and emotional distress\, guiding clients in developing self-soothing and regulation techniques.\nIdentify culturally sensitive approaches for tailoring mind-body interventions to clients with diverse experiences of pain.\nLearn methods for assessing the effectiveness of combined psychological and somatic strategies in reducing pain and enhancing resilience\nIdentify the emotional\, mental\, and spiritual impacts of living with chronic pain.\nUnderstand at least ten non-pharmaceutical ways to manage chronic pain.\nBecome familiar with the emotional issues surrounding chronic pain.\nDiscuss the role of grief and anger in living with chronic pain.\nExplore newer pain management tools such as somatic tracking.\nIdentify how to introduce pain management techniques appropriately to clients.\n\nREGISTER HERE\n  \n 
URL:https://cascadia-training.com/course/chronic-pain-psychological-and-somatic-strategies-august-2026/
LOCATION:Zoom
CATEGORIES:Cultural Competence,Health Equity
ORGANIZER;CN="Dreya Blume%2C LCSW (she/her)":MAILTO:dreyablume@gmail.com
END:VEVENT
END:VCALENDAR