BEGIN:VCALENDAR
VERSION:2.0
PRODID:-//Cascadia Training for Professional Development - ECPv6.15.20//NONSGML v1.0//EN
CALSCALE:GREGORIAN
METHOD:PUBLISH
X-WR-CALNAME:Cascadia Training for Professional Development
X-ORIGINAL-URL:https://cascadia-training.com
X-WR-CALDESC:Events for Cascadia Training for Professional Development
REFRESH-INTERVAL;VALUE=DURATION:PT1H
X-Robots-Tag:noindex
X-PUBLISHED-TTL:PT1H
BEGIN:VTIMEZONE
TZID:America/Los_Angeles
BEGIN:DAYLIGHT
TZOFFSETFROM:-0800
TZOFFSETTO:-0700
TZNAME:PDT
DTSTART:20250309T100000
END:DAYLIGHT
BEGIN:STANDARD
TZOFFSETFROM:-0700
TZOFFSETTO:-0800
TZNAME:PST
DTSTART:20251102T090000
END:STANDARD
BEGIN:DAYLIGHT
TZOFFSETFROM:-0800
TZOFFSETTO:-0700
TZNAME:PDT
DTSTART:20260308T100000
END:DAYLIGHT
BEGIN:STANDARD
TZOFFSETFROM:-0700
TZOFFSETTO:-0800
TZNAME:PST
DTSTART:20261101T090000
END:STANDARD
BEGIN:DAYLIGHT
TZOFFSETFROM:-0800
TZOFFSETTO:-0700
TZNAME:PDT
DTSTART:20270314T100000
END:DAYLIGHT
BEGIN:STANDARD
TZOFFSETFROM:-0700
TZOFFSETTO:-0800
TZNAME:PST
DTSTART:20271107T090000
END:STANDARD
END:VTIMEZONE
BEGIN:VEVENT
DTSTART;TZID=America/Los_Angeles:20260521T090000
DTEND;TZID=America/Los_Angeles:20260521T163000
DTSTAMP:20260421T082950
CREATED:20250924T221148Z
LAST-MODIFIED:20250924T221148Z
UID:43711-1779354000-1779381000@cascadia-training.com
SUMMARY:Motivational Interviewing: Improving Client Outcomes by Increasing Intrinsic Motivation for Change
DESCRIPTION:Motivational Interviewing: Improving Client Outcomes by Increasing Intrinsic Motivation for Change\nPresented by: Randi Jensen\, MA\, LMHC\, CCDC\nWhen: Thursday\, May 21st\, 2026 | 9:00 am – 4:30 pm Pacific Time\nWhere: Live on Zoom. You will receive your Zoom link/invitation the week of the workshop.\nContinuing Education Credit Hours: 6 CEs | $190.00\nMotivational Interviewing (MI) is an established evidence-based practice renowned for resolving ambivalence. MI\, which originates in substance use disorder treatment\, has been shown to enhance client motivation for change and improve treatment outcomes.  The spirit of MI complements Self-Determination Theory (SDI)\, which asserts that people have an intrinsic desire to make life changes congruent with their core values. SDI states that people are more likely to be internally motivated if their actions\, beliefs\, and core values align.  Motivational Interviewing provides the technique to make that happen. \nThe principles of Motivational Interviewing include providing accurate empathy\, building discrepancy\, rolling with resistance\, and increasing self-efficacy. These supply the basis for building intrinsic motivation for change and can facilitate the resolution of life-threatening ambivalence in suicidality. \nResearchers Britton\, Williams\, and Connor (2008) show how the therapist’s proficiency in Motivational Interviewing can resolve a client’s ambivalence and resistance to change. \nThis very practical workshop includes learning through lectures\, interactive discussions\, demonstrations\, video role plays\, and skill-building through group exercises. These methods combine to provide techniques and interventions that can be applied immediately. \nObjectives:\n• Describe the principles that underpin Motivational Interviewing and how they promote client autonomy \n• Articulate the distinguishing techniques of open-ended questions\, affirmations\, reflective listening\, and summarizations \n• Explain the Stages of Change as described by Prochaska and DiClemente (1983) \n• Discuss the significance of Self-Determination Theory in coordination with MI \n• Distinguish different methods of using MI with specific populations and varied disorders \n• Express and practice Motivational Interviewing techniques used in counseling suicidal individuals \n• Describe ethical considerations and documentation \n• Enumerate necessary therapist qualities that support the efficient use of MI \nRandi is an expert in both using and teaching Motivational Interviewing. In addition to her many years of presenting Cascadia Training workshops\, she taught Motivational Interviewing courses as an adjunct faculty member at Bastyr University and as Case Management Program Director for Antioch University and Seattle’s Job Initiative. She also uses her expert-level skills in Motivational Interviewing in her private practice\, specializing in treating clients with suicidality\, suicide ideation\, substance use disorders\, and more. \nREGISTER HERE\n  \n 
URL:https://cascadia-training.com/course/motivational-interviewing-may-2026/
LOCATION:Zoom
END:VEVENT
BEGIN:VEVENT
DTSTART;TZID=America/Los_Angeles:20260731T090000
DTEND;TZID=America/Los_Angeles:20260731T121500
DTSTAMP:20260421T082950
CREATED:20260219T185647Z
LAST-MODIFIED:20260219T185647Z
UID:44073-1785488400-1785500100@cascadia-training.com
SUMMARY:🆕BRAND-NEW! Stuck on Scroll: Clinical Strategies for Internet and Social Media Addiction 🆕
DESCRIPTION:🆕BRAND-NEW!🆕\nStuck on Scroll: Clinical Strategies for Internet and Social Media Addiction\nPresented by: Diane Bigler\, LCSW\, LSCSW\nWhen: Friday\, July 31st\, 2026| 9:00 AM – 12:15 PM\, Pacific Time\nWhere: Live on Zoom. You will receive your Zoom link/invitation the week of the workshop.\nContinuing Education Credit Hours: 3 CEs | $90.00\nWorkshop Description:\nAs screen time continues to rise across all age groups\, mental health professionals are seeing increasing impacts of internet\, social media\, and technology overuse on emotional\, relational\, and psychological well-being. This webinar equips clinicians with a practical\, research-informed understanding of screen addiction and problematic digital behaviors\, exploring how these issues manifest in clinical settings and what can be done to address them effectively. \nParticipants will examine recent data on prevalence and risk factors\, learn about the psychological and sociological mechanisms behind compulsive screen use (including social comparison\, algorithmic reinforcement\, and attachment dynamics)\, and gain tools to assess and treat clients struggling with digital overuse. The course offers evidence-based strategies—including CBT\, motivational interviewing\, and digital wellness planning—that can be integrated into therapeutic practice to help clients regain control\, set boundaries\, and develop healthier relationships with technology. \nWorkshop Objectives:\n\nIdentify signs and symptoms of problematic internet\, social media\, and screen use\, and distinguish between high engagement and clinically significant behavioral addiction.\nAnalyze the psychological\, neurological\, and sociocultural factors contributing to screen overuse\, including reward mechanisms\, social reinforcement\, and algorithmic design.\nImplement evidence-based clinical strategies to assess\, intervene\, and support clients in creating healthier digital habits and reducing screen-related distress.\n\nButton Text\n  \n 
URL:https://cascadia-training.com/course/tuck-on-scroll-clinical-strategies-for-internet-and-social-media-addiction-july-2026/
LOCATION:Zoom
ORGANIZER;CN="Diane Bigler%2C LCSW%2C LSCSW (she/her)":MAILTO:diane4ku@yahoo.com
END:VEVENT
BEGIN:VEVENT
DTSTART;TZID=America/Los_Angeles:20261210T090000
DTEND;TZID=America/Los_Angeles:20261210T163000
DTSTAMP:20260421T082950
CREATED:20250924T221630Z
LAST-MODIFIED:20251011T202838Z
UID:43713-1796893200-1796920200@cascadia-training.com
SUMMARY:Motivational Interviewing: Improving Client Outcomes by Increasing Intrinsic Motivation for Change
DESCRIPTION:Motivational Interviewing: Improving Client Outcomes by Increasing Intrinsic Motivation for Change\nPresented by: Randi Jensen\, MA\, LMHC\, CCDC\nWhen: Thursday\, December 10th\, 2026 | 9:00 am – 4:30 pm Pacific Time\nWhere: Live on Zoom. You will receive your Zoom link/invitation the week of the workshop.\nContinuing Education Credit Hours: 6 CEs | $190.00\nMotivational Interviewing (MI) is an established evidence-based practice renowned for resolving ambivalence. MI\, which originates in substance use disorder treatment\, has been shown to enhance client motivation for change and improve treatment outcomes.  The spirit of MI complements Self-Determination Theory (SDI)\, which asserts that people have an intrinsic desire to make life changes congruent with their core values. SDI states that people are more likely to be internally motivated if their actions\, beliefs\, and core values align.  Motivational Interviewing provides the technique to make that happen.\n\nThe principles of Motivational Interviewing include providing accurate empathy\, building discrepancy\, rolling with resistance\, and increasing self-efficacy. These supply the basis for building intrinsic motivation for change and can facilitate the resolution of life-threatening ambivalence in suicidality.\n\nResearchers Britton\, Williams\, and Connor (2008) show how the therapist’s proficiency in Motivational Interviewing can resolve a client’s ambivalence and resistance to change.\n\nThis very practical workshop includes learning through lectures\, interactive discussions\, demonstrations\, video role plays\, and skill-building through group exercises. These methods combine to provide techniques and interventions that can be applied immediately.\nObjectives:\n• Describe the principles that underpin Motivational Interviewing and how they promote client autonomy\n\n• Articulate the distinguishing techniques of open-ended questions\, affirmations\, reflective listening\, and summarizations\n\n• Explain the Stages of Change as described by Prochaska and DiClemente (1983)\n\n• Discuss the significance of Self-Determination Theory in coordination with MI\n\n• Distinguish different methods of using MI with specific populations and varied disorders\n\n• Express and practice Motivational Interviewing techniques used in counseling suicidal individuals\n\n• Describe ethical considerations and documentation\n\n• Enumerate necessary therapist qualities that support the efficient use of MI\n\nRandi is an expert in both using and teaching Motivational Interviewing. In addition to her many years of presenting Cascadia Training workshops\, she taught Motivational Interviewing courses as an adjunct faculty member at Bastyr University and as Case Management Program Director for Antioch University and Seattle’s Job Initiative. She also uses her expert-level skills in Motivational Interviewing in her private practice\, specializing in treating clients with suicidality\, suicide ideation\, substance use disorders\, and more.\n\nREGISTER HERE\n\n \n\n 
URL:https://cascadia-training.com/course/motivational-interviewing-december-2026/
LOCATION:Zoom
END:VEVENT
END:VCALENDAR