BEGIN:VCALENDAR
VERSION:2.0
PRODID:-//Cascadia Training for Professional Development - ECPv6.15.20//NONSGML v1.0//EN
CALSCALE:GREGORIAN
METHOD:PUBLISH
X-WR-CALNAME:Cascadia Training for Professional Development
X-ORIGINAL-URL:https://cascadia-training.com
X-WR-CALDESC:Events for Cascadia Training for Professional Development
REFRESH-INTERVAL;VALUE=DURATION:PT1H
X-Robots-Tag:noindex
X-PUBLISHED-TTL:PT1H
BEGIN:VTIMEZONE
TZID:America/Los_Angeles
BEGIN:DAYLIGHT
TZOFFSETFROM:-0800
TZOFFSETTO:-0700
TZNAME:PDT
DTSTART:20250309T100000
END:DAYLIGHT
BEGIN:STANDARD
TZOFFSETFROM:-0700
TZOFFSETTO:-0800
TZNAME:PST
DTSTART:20251102T090000
END:STANDARD
BEGIN:DAYLIGHT
TZOFFSETFROM:-0800
TZOFFSETTO:-0700
TZNAME:PDT
DTSTART:20260308T100000
END:DAYLIGHT
BEGIN:STANDARD
TZOFFSETFROM:-0700
TZOFFSETTO:-0800
TZNAME:PST
DTSTART:20261101T090000
END:STANDARD
BEGIN:DAYLIGHT
TZOFFSETFROM:-0800
TZOFFSETTO:-0700
TZNAME:PDT
DTSTART:20270314T100000
END:DAYLIGHT
BEGIN:STANDARD
TZOFFSETFROM:-0700
TZOFFSETTO:-0800
TZNAME:PST
DTSTART:20271107T090000
END:STANDARD
END:VTIMEZONE
BEGIN:VEVENT
DTSTART;TZID=America/Los_Angeles:20260204T090000
DTEND;TZID=America/Los_Angeles:20260206T150000
DTSTAMP:20260421T152737
CREATED:20250827T193732Z
LAST-MODIFIED:20250827T194115Z
UID:43629-1770195600-1770390000@cascadia-training.com
SUMMARY:🆕 BRAND-NEW! | Queering Supervision 🆕
DESCRIPTION:🆕BRAND-NEW PRESENTER & WORKSHOP!🆕\nMeets requirements to become an approved clinical supervisor!\nAlso meets requirements for ethics\, health equity\, cultural competence\, and professional roles and boundaries CEs (2 each)\nQueering Supervision\nPresented by: Leah Post\, LICSW\, MSW\, MPH\nWhen: Wednesday\, February 4th – Friday\, February 6th\, 2026 | 9:00 am – 3:00 pm Pacific Time each day\nWhere: Live on Zoom. You will receive your Zoom link/invitation the week of the workshop.\nContinuing Education Credit Hours: 15 CEs – meets criteria for clinical supervision training requirements. Also meets requirements for Ethics (2 CEs)\, Cultural Competence (2 CEs)\, Health Equity (2 CEs)\, and Professional Boundaries (2 CEs) CEs | $395.00*** see below for payment options\nThis 15-hour live virtual training fulfills the Washington State requirement for becoming an approved clinical supervisor. Participants will engage in a transformative learning experience rooted in queer\, decolonial\, and intersectional frameworks. \nThe course examines power\, privilege\, and systemic inequities that shape both supervision and clinical practice. Designed for mental health professionals who want to offer affirming\, anti-oppressive supervision\, this course provides the practical tools and critical insights necessary for effective\, ethical\, and equity-informed supervisory relationships. \nThe training includes information about required documentation and professional ethics\, ensuring participants meet the legal and regulatory standards while engaging in liberatory\, reflective supervision practices. \nLearning Objectives:\nBy the end of this training\, participants will be able to: \n– Apply WA State legal and ethical requirements to clinical supervision. \n– Identify and address power dynamics and systemic oppression within supervision relationships. \n– Evaluate ethical dilemmas\, including dual relationships\, through nontraditional and liberation-based frameworks. \n– Demonstrate supervision techniques such as reframing\, self-disclosure\, and externalization. \n– Develop a personal supervision framework aligned with anti-oppressive practice. \nPayment Options\nCascadia Training values quality continuing education that is accessible\, inclusive\, and without barriers to all. We never want the cost of our workshops to be a barrier to attending one of our workshops\, particularly our multi-session workshops. \nWe offer several options to make our workshops cost-inclusive: payment plans and a limited number of discounts for students and early professionals. \nFor payment plans\, you can select paying 50% today and 50% due on February 28\, 2026. \nPlease email us at hello@cascadiatraining.org to inquire about possible discounts. \nREGISTER HERE\n  \n 
URL:https://cascadia-training.com/course/queering-supervision-february-2026/
LOCATION:Zoom
CATEGORIES:Clinical Supervision,Cultural Competence,Ethics,Health Equity,Professional Roles & Boundaries
ORGANIZER;CN="Leah Post%2C MSW%2C MPH%2C LICSW":MAILTO:leah@perfectlyqueercounseling.com
END:VEVENT
BEGIN:VEVENT
DTSTART;TZID=America/Los_Angeles:20260213T090000
DTEND;TZID=America/Los_Angeles:20260213T121500
DTSTAMP:20260421T152737
CREATED:20251219T233900Z
LAST-MODIFIED:20251219T234012Z
UID:43947-1770973200-1770984900@cascadia-training.com
SUMMARY:🆕 Brand-New! EFT Tapping: Advanced Techniques 🆕
DESCRIPTION:🆕 BRAND-NEW!🆕\nLaw & Ethics CEs!\nEFT Tapping: Advanced Techniques\nPresented by: Shelley White\, MA\, LMHC\nWhen: Friday\, February 13th\, 2026 | 9:00 am – 12:15 pm Pacific Time\nWhere: Live on Zoom. You will receive your Zoom link/invitation the week of the workshop.\nCEs: 3 Law & Ethics CEs | Cost: $99.00\nHaving learned EFT Tapping in Cascadia’s Part One training\, you are now ready to enrich your existing EFT competencies by adding advanced tapping protocols to your EFT toolbox. This course is designed to increase your knowledge and skills in tapping. Not only will you gain the knowledge\, you will have the opportunity to practice these advanced tapping protocols. \nThrough lecture\, demonstration\, guided practice\, and case histories\, you will learn when and how to use several advanced EFT Techniques. For example\, you’ll learn how to use metaphor to help with pain\, you’ll comprehend ways to help a client calm before leaving a session\, you’ll learn a way to “sneak up” on processing a traumatic memory\, and you will also be adding a tapping technique to help with phobias like fear of flying. \nCome join Shelley White again\, as you and your tapping colleagues enhance and expand your knowledge base and expand upon your tapping techniques and skills. \nWe invite you to join us for this three-hour Advanced Tapping workshop\, where you’ll add to your tapping toolbox while also earning three ethics credits! We hope you can join us in February for this brand-new Advanced Tapping training. \nOBJECTIVES:\n\nUnderstand the role of insights\, intuition\, reframes\, and humor when using EFT.\nUnderstand the theoretical framework of the EFT comprehensive model (also known as “clinical EFT).\nUnderstand the application of EFT Gentle (dissociating) Techniques.\nKnow how the “Tell the Story” technique can be used for fears and/or phobias.\nUnderstand and use the “Color of Pain” tapping protocol.\nUnderstand and practice using advanced tapping techniques for managing trauma.\nIdentify when and how to use the “sneaking up” technique when working with trauma.\n\nREGISTER HERE\n  \n 
URL:https://cascadia-training.com/course/eft-tapping-advanced-techniques-february-2026/
LOCATION:Zoom
CATEGORIES:Ethics
END:VEVENT
BEGIN:VEVENT
DTSTART;TZID=America/Los_Angeles:20260325T093000
DTEND;TZID=America/Los_Angeles:20260327T143000
DTSTAMP:20260421T152737
CREATED:20250827T165441Z
LAST-MODIFIED:20250827T165441Z
UID:43622-1774431000-1774621800@cascadia-training.com
SUMMARY:Clinical Supervision Training: (Almost) Everything You Need to Know
DESCRIPTION:Meets requirements to become an approved clinical supervisor!\nLaw & Ethics CEs!\nClinical Supervision Training: (Almost) Everything You Need to Know\nPresented by: Eric Ström\, PhD\, Attorney at Law\, LMHC \nWhen: Wednesday\, March 25th – Friday\, March 27th\, 2026 | 9:30 AM – 2:30 PM Pacific Time each day\nWhere: Live on Zoom. You will receive your Zoom link/invitation the week of the workshop.\nContinuing Education Credit Hours: 15 CEs (10 Law & Ethics CEs) | $395.00 (see below for payment options)\nThis workshop meets the training requirement for becoming an Approved Clinical Supervisor.\nProviding supervision can be a rewarding addition to a clinical practice. However\, many clinicians are reluctant to become supervisors due to legal and ethical liability concerns.  These concerns are often increased by a lack of accurate information about the true risks of liability faced by supervisors. \nThrough direct instructions\, presentation of real-life scenarios\, and group discussions\, participants will understand the fundamentals of supervision best practices to improve their effectiveness and skill as clinical supervisors. \nThis three-day\, 15-hour supervision workshop is designed to meet the training requirements for Washington State Approved Supervisors.\nObjectives:\n• Identify and assess sources of significant liability in supervision; \n• Construct effective strategies for creating a sound supervision agreement; \n• Describe key conceptual frameworks for supervision; \n• Compare various theoretical approaches to supervision; \n• Contrast various types of supervisory relationships; \n• Examine the benefits between group and individual supervision settings; \n• Summarize the legal and ethical regulation of supervision; \n• Maximize supervisor\, supervisee\, and client success through supervision structure; \n• Integrate regulation and practice to provide quality supervision documentation. \nPayment Options\nCascadia Training values quality continuing education that is accessible\, inclusive\, and without barriers to all. We never want the cost of our workshops to be a barrier to attending one of our workshops\, particularly our multi-session workshops. \nWe offer several options to make our workshops cost-inclusive: payment plans and a limited number of discounts for students and early professionals. \nFor payment plans\, you can select paying 50% today and 50% due by March 31st\, 2026. \nPlease email us at hello@cascadiatraining.org to inquire about possible discounts. \nREGISTER HERE\n  \n 
URL:https://cascadia-training.com/course/clinical-supervision-training-march-2026/
LOCATION:Zoom
CATEGORIES:Clinical Supervision,Ethics
ORGANIZER;CN="Eric Str%C3%B6m%2C PhD%2C Attorney at Law%2C LMHC (he/him)":MAILTO:eric@strom-consulting.com
END:VEVENT
END:VCALENDAR