BEGIN:VCALENDAR
VERSION:2.0
PRODID:-//Cascadia Training for Professional Development - ECPv6.15.20//NONSGML v1.0//EN
CALSCALE:GREGORIAN
METHOD:PUBLISH
X-ORIGINAL-URL:https://cascadia-training.com
X-WR-CALDESC:Events for Cascadia Training for Professional Development
REFRESH-INTERVAL;VALUE=DURATION:PT1H
X-Robots-Tag:noindex
X-PUBLISHED-TTL:PT1H
BEGIN:VTIMEZONE
TZID:America/Los_Angeles
BEGIN:DAYLIGHT
TZOFFSETFROM:-0800
TZOFFSETTO:-0700
TZNAME:PDT
DTSTART:20250309T100000
END:DAYLIGHT
BEGIN:STANDARD
TZOFFSETFROM:-0700
TZOFFSETTO:-0800
TZNAME:PST
DTSTART:20251102T090000
END:STANDARD
BEGIN:DAYLIGHT
TZOFFSETFROM:-0800
TZOFFSETTO:-0700
TZNAME:PDT
DTSTART:20260308T100000
END:DAYLIGHT
BEGIN:STANDARD
TZOFFSETFROM:-0700
TZOFFSETTO:-0800
TZNAME:PST
DTSTART:20261101T090000
END:STANDARD
BEGIN:DAYLIGHT
TZOFFSETFROM:-0800
TZOFFSETTO:-0700
TZNAME:PDT
DTSTART:20270314T100000
END:DAYLIGHT
BEGIN:STANDARD
TZOFFSETFROM:-0700
TZOFFSETTO:-0800
TZNAME:PST
DTSTART:20271107T090000
END:STANDARD
END:VTIMEZONE
BEGIN:VEVENT
DTSTART;TZID=America/Los_Angeles:20260128T090000
DTEND;TZID=America/Los_Angeles:20260128T120000
DTSTAMP:20260421T154509
CREATED:20251209T172614Z
LAST-MODIFIED:20260121T133254Z
UID:43891-1769590800-1769601600@cascadia-training.com
SUMMARY:🆕BRAND-NEW! | Marketing 101 for Therapists: The Road to Your Ideal Private Practice 🆕
DESCRIPTION:BRAND-NEW! \nMarketing 101 for Therapists: The Road to Your Ideal Private Practice\nPresented by: Dreya Blume\, LCSW\nWhen: Wednesday\, January 28th\, 2026 | 9:00 AM – 12:00 PM\, Pacific Time\nWhere: Live on Zoom. You will receive your Zoom link/invitation the week of the workshop.\nContinuing Education Credit Hours: 3 CEs | $90.00\nIn this lively\, hands-on workshop\, clinicians will learn how to attract ideal clients in ways that feel authentic\, ethical\, and aligned with their professional values. Forget cookie-cutter marketing advice — this training helps you clarify your niche\, communicate your unique therapeutic voice\, and create a sustainable marketing strategy that feels genuine\, not salesy. Through practical exercises\, real-world examples\, and reflection on mindset blocks around visibility\, participants will leave feeling confident\, empowered\, and ready to let their practice thrive. \nObjectives:\n\nParticipants will be able to identify and articulate their clinical niche and unique therapeutic value in a way that aligns with their professional identity and ethical standards.\nParticipants will learn to design a personalized\, sustainable marketing plan that reflects their authentic voice\, reduces “salesy” pressure\, and increases visibility to their ideal clients.\nParticipants will be able to recognize and address common mindset barriers—such as visibility fears\, impostor syndrome\, and scarcity beliefs—that interfere with effective and ethical marketing.\n\nREGISTER HERE\n  \n 
URL:https://cascadia-training.com/course/marketing-101-for-therapists-january-2026/
LOCATION:Zoom
ORGANIZER;CN="Dreya Blume%2C LCSW (she/her)":MAILTO:dreyablume@gmail.com
END:VEVENT
BEGIN:VEVENT
DTSTART;TZID=America/Los_Angeles:20260219T090000
DTEND;TZID=America/Los_Angeles:20260219T163000
DTSTAMP:20260421T154509
CREATED:20251209T192034Z
LAST-MODIFIED:20251209T192034Z
UID:43909-1771491600-1771518600@cascadia-training.com
SUMMARY:The Hidden Self: Shadow Work as a Clinical Intervention
DESCRIPTION:Back by Popular Demand!\nMeets Requirements for Health Equity or Cultural Competence CEs!\nThe Hidden Self: Shadow Work as a Clinical Intervention\nPresented by: Dreya Blume\, LCSW\nWhen: Thursday\, February 19th\, 2026 | 9:00 AM – 4:30 PM\, Pacific Time\nWhere: Live on Zoom. You will receive your Zoom link/invitation the week of the workshop.\nContinuing Education Credit Hours: 6 Health Equity or Cultural Competence CEs | $190.00\nIn every therapeutic relationship\, Carl Jung’s concept of the shadow—the hidden\, often unconscious parts of ourselves—shapes both the client’s challenges and the clinician’s approach. \nThis workshop is designed to equip psychotherapists with practical tools and theoretical insights to incorporate shadow work into clinical practice. Through interactive discussions and experiential exercises\, participants will learn to identify and work with the hidden aspects of the psyche that influence behavior\, emotional patterns\, and relational dynamics. Whether it’s uncovering a client’s repressed fears or recognizing your own countertransference\, this workshop provides a compassionate\, evidence-informed framework for exploring the shadow self as a pathway to healing and integration. \nClinicians will leave with a deeper understanding of how to help clients embrace their hidden selves\, transforming shame\, fear\, and denial into growth and self-awareness. We’ll also examine the therapist’s role in navigating their own shadow\, fostering greater authenticity and presence in the therapeutic space. \nPerfect for clinicians at any stage of their career\, this workshop will deepen your practice\, enhance your self-awareness\, and empower you to guide clients in their journey toward wholeness. \nPlease join me in exploring the shadow\, where profound healing and transformation begin. This will be an experiential workshop\, with journaling and small-group discussion. Please be sure to have a notebook on hand. \nObjectives: \nUpon completion of this training\, participants will be able to: \n\nDiscuss the historical development of the concept of the shadow as well as shadow work in the field of psychology\nIdentify the importance of shadow work in client healing\nDefine shadow work and its role for both clinician and client wellness\nGain competency in introducing shadow work to clients\nIdentify the connections between a client’s presenting issues and their unconscious patterns that may be sabotaging their efforts at healing\nDiscuss various strategies and interventions which the client can utilize in order to explore and understand their shadow\n\nREGISTER HERE\n  \n 
URL:https://cascadia-training.com/course/the-hidden-self-shadow-work-february-2026/
LOCATION:Zoom
CATEGORIES:Cultural Competence,Health Equity
ORGANIZER;CN="Dreya Blume%2C LCSW (she/her)":MAILTO:dreyablume@gmail.com
END:VEVENT
END:VCALENDAR