BEGIN:VCALENDAR
VERSION:2.0
PRODID:-//Cascadia Training for Professional Development - ECPv6.15.20//NONSGML v1.0//EN
CALSCALE:GREGORIAN
METHOD:PUBLISH
X-WR-CALNAME:Cascadia Training for Professional Development
X-ORIGINAL-URL:https://cascadia-training.com
X-WR-CALDESC:Events for Cascadia Training for Professional Development
REFRESH-INTERVAL;VALUE=DURATION:PT1H
X-Robots-Tag:noindex
X-PUBLISHED-TTL:PT1H
BEGIN:VTIMEZONE
TZID:America/Los_Angeles
BEGIN:DAYLIGHT
TZOFFSETFROM:-0800
TZOFFSETTO:-0700
TZNAME:PDT
DTSTART:20250309T100000
END:DAYLIGHT
BEGIN:STANDARD
TZOFFSETFROM:-0700
TZOFFSETTO:-0800
TZNAME:PST
DTSTART:20251102T090000
END:STANDARD
BEGIN:DAYLIGHT
TZOFFSETFROM:-0800
TZOFFSETTO:-0700
TZNAME:PDT
DTSTART:20260308T100000
END:DAYLIGHT
BEGIN:STANDARD
TZOFFSETFROM:-0700
TZOFFSETTO:-0800
TZNAME:PST
DTSTART:20261101T090000
END:STANDARD
BEGIN:DAYLIGHT
TZOFFSETFROM:-0800
TZOFFSETTO:-0700
TZNAME:PDT
DTSTART:20270314T100000
END:DAYLIGHT
BEGIN:STANDARD
TZOFFSETFROM:-0700
TZOFFSETTO:-0800
TZNAME:PST
DTSTART:20271107T090000
END:STANDARD
END:VTIMEZONE
BEGIN:VEVENT
DTSTART;TZID=America/Los_Angeles:20260209T090000
DTEND;TZID=America/Los_Angeles:20260209T121500
DTSTAMP:20260421T095200
CREATED:20251209T185334Z
LAST-MODIFIED:20251209T185334Z
UID:43903-1770627600-1770639300@cascadia-training.com
SUMMARY:Diagnosis and Treatment of Prolonged Grief Disorder
DESCRIPTION:Diagnosis and Treatment of Prolonged Grief Disorder\nPresented by: Diane Bigler\, LCSW\, LSCSW\nWhen: Monday\, February 9th\, 2026| 9:00 AM – 12:15 PM\, Pacific Time\nWhere: Live on Zoom. You will receive your Zoom link/invitation the week of the workshop.\nContinuing Education Credit Hours: 3 CEs | $95.00 \nWith the recent release of the DSM-5-TR\, clinicians are eager to learn about updates\, especially as it pertains to a new diagnosis. This new DSM edition ushers in only one official new diagnosis: Prolonged Grief Disorder (PGD). This workshop will present the new diagnosis and its criteria\, explore the pros and cons of such a diagnosis\, and examine methods of assessing for PGD. \nThe use of diverse interventions and tools will also be covered. Learners will follow a case study from diagnosis to treatment. Clinicians will leave feeling much more informed about this new diagnosis and better prepared to support clients who may be living with PGD. \nOBJECTIVES\nAttendees will be able to: \n\nArticulate diagnostic criteria for Prolonged Grief Disorder (PGD).\nAnalyze the pros and cons of this diagnosis.\nConceptualize an understanding of clients with PGD and formulate goals and interventions.\nCreate and utilize diverse treatment interventions to assist clients in resolving PGD.\n\nREGISTER HERE\n  \n 
URL:https://cascadia-training.com/course/diagnosis-and-treatment-of-prolonged-grief-disorder-february-2026/
LOCATION:Zoom
ORGANIZER;CN="Diane Bigler%2C LCSW%2C LSCSW (she/her)":MAILTO:diane4ku@yahoo.com
END:VEVENT
BEGIN:VEVENT
DTSTART;TZID=America/Los_Angeles:20260409T090000
DTEND;TZID=America/Los_Angeles:20260409T121500
DTSTAMP:20260421T095200
CREATED:20260113T182024Z
LAST-MODIFIED:20260327T172017Z
UID:43996-1775725200-1775736900@cascadia-training.com
SUMMARY:SPECIAL SALE! Ethical Considerations of Culture in Clinical Practice
DESCRIPTION:Last-Minute Deal! $30 Off!\nEthics\, Health Equity\, or Cultural Competence CEs!\nEthical Considerations of Culture in Clinical Practice\nPresented by: Diane Bigler\, LCSW\, LSCSW\nWhen: Thursday\, April 9th\, 2026 | 9:00 AM – 12:15 PM\, Pacific Time\nWhere: Live on Zoom. You will receive your Zoom link/invitation the week of the workshop.\nContinuing Education Credit Hours: 3 CEs – counts as Law & Ethics\, Health Equity\, or Cultural Competence CEs | $99.00 Now Only $69.00\nHow do culture and ethics intersect? This continuing education workshop will provide an overview of fundamental cultural concepts relevant to clinical practice. This workshop meets continuing education credit hour requirements for law & ethics CEs\, health equity CEs in Washington State\, or cultural competence CEs in Oregon and Washington State. \nClinicians who value the cultural aspects of their clients demonstrate acceptance and ethical practice. \nEthical considerations related to culture will be explored\, and case studies will illuminate the possible dilemmas that practitioners may encounter. Learners will be encouraged to explore their own practices for resolving ethical dilemmas involving culture. Attendees will all receive valuable recommendations and frameworks for appropriately addressing culturally based ethical dilemmas in a thorough\, sensitive\, and inclusive manner. \nOBJECTIVES:\n\n Describe at least three cultural concepts relevant to clinical practice.\n Identify two ethical frameworks for resolving dilemmas involving culture.\n Evaluate culturally-based ethical dilemmas to determine the best course of action.\n\nREGISTER HERE\n  \n 
URL:https://cascadia-training.com/course/ethical-considerations-of-culture-april-2026/
LOCATION:Zoom
CATEGORIES:Last-Minute Deals
ORGANIZER;CN="Diane Bigler%2C LCSW%2C LSCSW (she/her)":MAILTO:diane4ku@yahoo.com
END:VEVENT
END:VCALENDAR