BEGIN:VCALENDAR
VERSION:2.0
PRODID:-//Cascadia Training for Professional Development - ECPv6.15.20//NONSGML v1.0//EN
CALSCALE:GREGORIAN
METHOD:PUBLISH
X-ORIGINAL-URL:https://cascadia-training.com
X-WR-CALDESC:Events for Cascadia Training for Professional Development
REFRESH-INTERVAL;VALUE=DURATION:PT1H
X-Robots-Tag:noindex
X-PUBLISHED-TTL:PT1H
BEGIN:VTIMEZONE
TZID:America/Los_Angeles
BEGIN:DAYLIGHT
TZOFFSETFROM:-0800
TZOFFSETTO:-0700
TZNAME:PDT
DTSTART:20250309T100000
END:DAYLIGHT
BEGIN:STANDARD
TZOFFSETFROM:-0700
TZOFFSETTO:-0800
TZNAME:PST
DTSTART:20251102T090000
END:STANDARD
BEGIN:DAYLIGHT
TZOFFSETFROM:-0800
TZOFFSETTO:-0700
TZNAME:PDT
DTSTART:20260308T100000
END:DAYLIGHT
BEGIN:STANDARD
TZOFFSETFROM:-0700
TZOFFSETTO:-0800
TZNAME:PST
DTSTART:20261101T090000
END:STANDARD
BEGIN:DAYLIGHT
TZOFFSETFROM:-0800
TZOFFSETTO:-0700
TZNAME:PDT
DTSTART:20270314T100000
END:DAYLIGHT
BEGIN:STANDARD
TZOFFSETFROM:-0700
TZOFFSETTO:-0800
TZNAME:PST
DTSTART:20271107T090000
END:STANDARD
END:VTIMEZONE
BEGIN:VEVENT
DTSTART;TZID=America/Los_Angeles:20260504T090000
DTEND;TZID=America/Los_Angeles:20260601T121500
DTSTAMP:20260423T154042
CREATED:20260216T185320Z
LAST-MODIFIED:20260409T164320Z
UID:44053-1777885200-1780316100@cascadia-training.com
SUMMARY:Therapeutic Neuroscience Certificate Series: A Brain Science-Based Approach to Cognitive & Somatic Treatment of Common Mental Health Disorders🆕
DESCRIPTION:Popular Certificate Program!\nTherapeutic Neuroscience Certificate Series: A Brain Science-Based Approach to Cognitive & Somatic Treatment of Common Mental Health Disorders\nPresented by: Hannah Smith\, MA\, LMHC\, CGP\nWhen: Monday\, May 4th – Monday\, June 1st\, 2026 | 4-Week Series | Meets Four Consecutive Mondays except Monday\, May 25th | 9:00 am – 12:15 pm Pacific Time (same time each Monday)\nWhere: Live on Zoom. You will receive your Zoom link/invitation the week of the workshop.\nContinuing Education Credit Hours: 12 CEs | $499.00\n***see below for payment options\nAre you ready for something really different? \nAs a provider of mental health treatment\, it is important to stay informed about the latest advances in treatment. Beyond being a requirement of most licensure boards\, research shows that improving practitioner competence decreases burnout and increases job satisfaction! \nOne of the hottest topics is the integration of neuroscience into mental health treatment. You heard this\, and you want to learn more – but it feels daunting and overwhelming in the face of all you have to deal with every day. The prospect just does not sound pleasant. \nSo\, why not make it easier? \nIntroducing Cascadia’s brain science certificate series! \nIn keeping with not only teaching to the brain in presentation style\, but also in the ability to take in and retain\, Cascadia now offers this in a series of three-hour sessions over a few weeks! The benefits are many! \nFirst\, the course is separated into four discrete and highly useful sessions: \nWeek One: Pertinent Therapeutic Neuroscience \nWeek Two: Applications in Therapeutic Neuroscience \nWeek Three: Neuroscience-informed Cognitive Approaches  \nWeek Four: Neuroscience-informed Somatic Approaches.  \nBesides three-hour time blocks being easier to manage than an entire day\, you will also have lots of time to think about\, try things\, and ask questions in between sessions\, as skill support inquiries are encouraged! \nNone of us wants to spend our time learning only to come away tired and feeling that we could not retain what we learned.  In this format\, you will have the chance to really sink your teeth into the material and build a sense of competence! \nAll this will take place in the comfort of your own home! \nIf you have wanted to take your practice to the next level by incorporating cutting-edge neuroscience\, then this is the course for you! Whether you aren’t quite sure what the amygdala really is or you are a PhD in Neuropsychology – this practical\, application-based course will appropriately challenge and inspire you! \nWorkshop Objectives:\n\nLearn Pertinent Brain Systems & Structures and Describe Their Practical Application to Clinical Work\nIdentify & Examine the Neurological Processes Underlying Common Mental Health Disorders\, Such as Anxiety\, Depression\, Personality Disorders & Trauma.\nRelate Specific Dysfunctional Behavioral Presentations to Associated Brain Functions to Improve Diagnosis & Pinpoint Effective Treatment Modalities\nApply the Neuroscience-informed Lens to Current Cognitive-based (ACT\, CBT\, IFS)\, Mindfulness-based (DBT\, MBT)\, & Somatic-based (EFT\, Expressive Therapies) Theories You Already Know Increasing Insights to Improve Treatment Trajectory & Outcomes\nEvaluate the differences between amygdala-based and cortex-based symptoms\nApply proven strategies for calming and training the amygdala.\nUse Practical Neuroscience-informed Techniques\, such as Threat Analysis\, to Improve Client Understanding\, Compliance\, and Outcomes\nConvey Difficult Science Terms & Concepts in an Understandable\, Client-friendly Manner\n\nPAYMENT OPTIONS\nCascadia Training values quality continuing education that is accessible\, inclusive\, and without barriers to all. We never want the cost of our workshops to be a barrier to attending one of our workshops\, particularly our multi-session workshops. \nWe offer several options to make our workshops cost-inclusive: payment plans\, a limited number of full and partial scholarships\, discounts for students\, and discounts for early professionals. \nFor payment plans\, you can select paying 50% today and the remaining 50% will automatically be processed from your credit card on the last day of June.  \nPlease email us at hello@cascadiatraining.org to inquire about discounts and scholarships. \nREGISTER HERE\n  \n 
URL:https://cascadia-training.com/course/therapeutic-neuroscience-certificate-may-2026/
LOCATION:Zoom
CATEGORIES:Autism Awareness Month 2026,Neurodiversity
ORGANIZER;CN="Hannah Smith MA%2C LMHC%2C CGP (she/her)":MAILTO:hannah@potentialfinders.com
END:VEVENT
BEGIN:VEVENT
DTSTART;TZID=America/Los_Angeles:20260604T090000
DTEND;TZID=America/Los_Angeles:20260604T121500
DTSTAMP:20260423T154042
CREATED:20260219T181136Z
LAST-MODIFIED:20260219T181136Z
UID:44067-1780563600-1780575300@cascadia-training.com
SUMMARY:The Body Can Change the Score: Somatic Interventions for Trauma
DESCRIPTION:The Body Can Change the Score: Somatic Interventions for Trauma\nPresented by: Diane Bigler\, LCSW\, LSCSW\nWhen: Thursday\, June 4th\, 2026| 9:00 AM – 12:15 PM\, Pacific Time\nWhere: Live on Zoom. You will receive your Zoom link/invitation the week of the workshop.\nContinuing Education Credit Hours: 3 CEs | $90.00\nWorkshop Description:\nAs humans\, we store memories\, experience and emotions on a cellular level. Somatic approaches focus on body awareness and how to cultivate it in and around the body. Providing clients with interventions to address how trauma is stored and experienced in the body is essential. This training will present an overview of how trauma is experienced in the body. Specific somatic interventions such as resourcing\, grounding\, dual awareness\, and sequencing will be presented. Learners will view the application of somatic interventions by analyzing case studies and video demonstrations. Discover methods to help your clients release trauma and negative emotions from the body through a trauma-informed care lens. \nObjectives: \n\nExplain the somatic experience of trauma in the body.\nDiscover at least five somatic interventions for trauma.\nAnalyze applications of somatic interventions to client case studies.\n\nREGISTER HERE\n  \n 
URL:https://cascadia-training.com/course/the-body-can-change-the-score-june-2026/
LOCATION:Zoom
ORGANIZER;CN="Diane Bigler%2C LCSW%2C LSCSW (she/her)":MAILTO:diane4ku@yahoo.com
END:VEVENT
BEGIN:VEVENT
DTSTART;TZID=America/Los_Angeles:20260612T090000
DTEND;TZID=America/Los_Angeles:20260612T121500
DTSTAMP:20260423T154042
CREATED:20260319T155924Z
LAST-MODIFIED:20260319T155924Z
UID:44236-1781254800-1781266500@cascadia-training.com
SUMMARY:Emotional Freedom Techniques (EFT): Tapping for Clinicians
DESCRIPTION:Law & Ethics CEs!\nEmotional Freedom Techniques (EFT): Tapping for Clinicians\nPresented by: Shelley White\, MA\, LMHC\nWhen: Friday\, June 12th\, 2026 | 9:00 am – 12:15 pm Pacific Time\nWhere: Live on Zoom. You will receive your Zoom link/invitation the week of the workshop.\nContinuing Education Credit Hours (NBCC and NASW-WA Approved): 3 Law & Ethics CEs | Cost: $99.00\nEmotion Freedom Techniques (EFT) – also known as EFT Tapping –has become a widely accepted\, effective\, evidence-based strategy to reduce emotional distress and increase physical well-being. Many prominent therapists and psychologists\, including trauma expert Bessel van der Kolk\, use a form of tapping with their clients\, and now you can too. \nEFT Tapping is a technique based on the same science as acupuncture. Since its inception in the late 1980s\, more than 200 research studies supporting its effectiveness have been published. Studies show that Tapping can reduce activity in the amygdala\, up-regulate immune genes\, down-regulate inflammation genes\, increase endorphin release\, and decrease cortisol levels in a very short period of time. Tapping has demonstrated its effectiveness in a variety of ways. It has been shown to increase test scores\, manage phobias\, and reduce pain. Tapping helps with trauma symptoms by safely releasing emotional numbing\, calming fears of vulnerability and connection\, reducing the need to be perfect\, and quieting shame. This workshop provides you with the introductory skills you need to start using basic tapping techniques immediately. \nIn addition to learning how to help clients with this evidence-based intervention\, attendees will also learn how to include Tapping as a technique in their own self-care toolkit. Listening to our clients’ fears\, stress\, anxiety\, and pain can affect our ability to stay calm\, centered\, and peaceful in our own lives. Our self-care is crucial to our ability to offer quality care to our clients\, which is why it is an ethical mandate in the mental health professions. Tapping can help you stay focused and present for your clients and help you to release any intense energy you may be holding after a therapeutic session. \nThrough observation\, lecture\, and practice\, workshop attendees will learn the history of tapping and understand the psychology and science behind its success. Attendees will learn and practice the basic Tapping protocol\, so you will be able to use EFT with your clients—and in your own self-care– immediately. Come earn 3 law & ethics CEs by learning this effective self-regulatory tool—for you AND your clients! \nWorkshop Objectives:\nAfter attending this workshop\, attendees will: \n\nUnderstand the history and origins of EFT Tapping and know that it works by using the same acupressure points and meridians that are used in acupuncture. Understand EFT/Tapping offers an effective\, evidence-based intervention and can easily be introduced into a clinician’s ongoing self-care practice.  (NASW\, 2021; ACA\, 2014; APA\, 2019)\nComprehend that self-care adds to their clinical competency and adheres to the ethical mandate to include self-care in their daily lives to avoid impairment in functioning (NASW\, 2021; ACA\, 2014; APA\, 2019).\nLearn how to introduce Tapping into the therapeutic setting\, communicating with clients about the purpose and use of EFT/Tapping in ways that are both developmentally and culturally appropriate\, aligning with the ethical imperative of informed consent. (NASW\, 2021\, 1.03\, 1/05; ACA\, 1.03\, 2014.)\nUnderstand that EFT Tapping is an evidence-based intervention and be able to discuss positive outcomes from using tapping to increase calm and reduce anxiety\, to improve concentration\, and decrease high blood pressure. EFT Tapping can be used for both sensory/physical and emotional self-regulation.\nObtain continuing education in EFT/Tapping and gain experience in using EFT/Tapping by practicing in triads and following the various protocols for using EFT/Tapping. (APA\, 2019; AMHCA\, 2020; ACA\, 2014; NASW\, 1.03\, 2021).\nLearn that EFT/Tapping ensures the ethical principles of client autonomy and client self-determination by offering an easy-to-use\, effective\, ethical\, and evidence-based technique clients can learn and use on their own to manage physical and/or emotional symptoms (AAMFT\, 1.1.8\, 2015; NASW\, 1.02\, 1.03\, 2021; ACA\, 2014\, 1.; APA\, 2019).\nDemonstrate their ethical compliance with the ethical and legal standards that mental health practitioners work toward competency when introducing a new treatment or clinical skill. (ACA\, 2014; NASW\, 2019; AAMFT\, 1.1.2\, 2015).\nUnderstand how to explain EFT/Tapping in clear and understandable language to their clients\, demonstrating their adherence to ethical standards when introducing a new clinical tool or technique. (ACA\, 2014\, A. 2.d).\n\nREGISTER HERE\n  \n  \n 
URL:https://cascadia-training.com/course/eft-tapping-for-clinicians-june-2026/
LOCATION:Zoom
CATEGORIES:Ethics
END:VEVENT
BEGIN:VEVENT
DTSTART;TZID=America/Los_Angeles:20260615T090000
DTEND;TZID=America/Los_Angeles:20260615T120000
DTSTAMP:20260423T154042
CREATED:20260304T192800Z
LAST-MODIFIED:20260310T200524Z
UID:44137-1781514000-1781524800@cascadia-training.com
SUMMARY:🆕 BRAND-NEW! Introduction to Schema Therapy 🆕
DESCRIPTION:Brand-New!\nIntroduction to Schema Therapy\nPresented by: Dreya Blume\, LCSW\nWhen: Monday\, June 15th\, 2026 | 9:00 am – 12:00 pm Pacific Time\nWhere: Live on Zoom. You will receive your Zoom link/invitation the week of the workshop.\nContinuing Education Credit Hours (NBCC and NASW-WA Approved): 3 CEs | $90.00\nSchemas—deeply ingrained patterns of thought\, emotion\, and behavior—shape how clients interpret themselves\, others\, and the world. This training introduces psychotherapists to the foundational concepts of schema therapy\, including identifying early maladaptive schemas\, schema modes\, and their influence on emotional and relational difficulties. Participants will explore how schemas develop\, how they show up in the therapy room\, and how understanding them can enhance assessment and intervention. \nAttendees will learn strategies to help clients recognize and work with their schemas\, shift maladaptive patterns\, and develop healthier coping mechanisms. \nTherapists will leave with tools to integrate schema-focused approaches into everyday practice\, \nsupporting deeper insight\, emotional regulation\, and adaptive change. \nWorkshop Objectives:\n\nDevelop an understanding of the core concepts of schema therapy\, including early maladaptive schemas and schema modes.\nLearn strategies to help clients identify and work with schemas in therapy sessions.\nIdentify interventions to support clients in shifting maladaptive patterns and developing healthier coping modes.\n\nREGISTER HERE\n  \n  \n  \n 
URL:https://cascadia-training.com/course/schema-therapy-june-2026/
LOCATION:Zoom
ORGANIZER;CN="Dreya Blume%2C LCSW (she/her)":MAILTO:dreyablume@gmail.com
END:VEVENT
BEGIN:VEVENT
DTSTART;TZID=America/Los_Angeles:20260618T090000
DTEND;TZID=America/Los_Angeles:20260618T120000
DTSTAMP:20260423T154042
CREATED:20260304T194128Z
LAST-MODIFIED:20260304T194128Z
UID:44139-1781773200-1781784000@cascadia-training.com
SUMMARY:🆕 BRAND-NEW! Sacred Rage and Therapeutic Fire: Working with Anger in Women 🆕
DESCRIPTION:Brand-New!\nSacred Rage and Therapeutic Fire: Working with Anger in Women\nPresented by: Dreya Blume\, LCSW\nWhen: Thursday\, June 18th\, 2026 | 9:00 am – 12:00 pm Pacific Time\nWhere: Live on Zoom. You will receive your Zoom link/invitation the week of the workshop.\nContinuing Education Credit Hours (NBCC and NASW-WA Approved): 3 CEs Meets Criteria for Health Equity or Cultural Competence CEs | $99.00\nAnger in women is often misunderstood\, dismissed\, or pathologized\, yet it can be a powerful signal of boundaries\, injustice\, and unmet needs. This training helps psychotherapists understand the complexities of women’s anger\, including its social\, cultural\, and relational influences\, and how it can be harnessed as a transformative force in therapy. \nParticipants will explore ways to normalize\, validate\, and work ethically with anger while supporting clients in expressing it constructively and safely. \nThrough discussion\, case examples\, and experiential exercises\, attendees will learn therapeutic strategies to help clients recognize their anger\, understand its origins\, and channel it into empowerment and growth. Therapists will leave with tools to navigate challenging emotions\, foster self-advocacy\, and guide clients in integrating their anger in ways that support healing\, assertiveness\, and personal agency. \nWorkshop Objectives:\n\nDevelop an understanding of the social\, cultural\, and psychological dimensions of anger in women.\nLearn strategies to help clients recognize\, validate\, and express anger safely and constructively.\nIdentify therapeutic interventions that transform anger into empowerment\, assertiveness\, and personal growth.\n\nREGISTER HERE\n  \n 
URL:https://cascadia-training.com/course/sacred-rage-and-therapeutic-fire-working-with-anger-in-women-june-2026/
LOCATION:Zoom
CATEGORIES:Cultural Competence,Health Equity
ORGANIZER;CN="Dreya Blume%2C LCSW (she/her)":MAILTO:dreyablume@gmail.com
END:VEVENT
BEGIN:VEVENT
DTSTART;TZID=America/Los_Angeles:20260622T120000
DTEND;TZID=America/Los_Angeles:20260622T133000
DTSTAMP:20260423T154042
CREATED:20260304T195724Z
LAST-MODIFIED:20260304T195724Z
UID:44141-1782129600-1782135000@cascadia-training.com
SUMMARY:🆕 BRAND-NEW! Lunch & Learn: Foundations of Couples Counseling 🆕
DESCRIPTION:Brand-New!\nFoundations of Couples Counseling\nPresented by: Dreya Blume\, LCSW\nWhen: Monday\, June 22nd\, 2026 | 12:00 pm – 1:30 pm Pacific Time\nWhere: Live on Zoom. You will receive your Zoom link/invitation the week of the workshop.\nContinuing Education Credit Hours (NBCC and NASW-WA Approved): 1.5 CEs | $25.00\nCouples counseling requires a nuanced understanding of relational dynamics\, communication patterns\, and attachment needs. This introductory training explores the foundational principles of couples therapy\, offering strategies for assessing relationship challenges\, navigating conflict\, and fostering connection and intimacy. \nParticipants will explore key concepts\, including communication styles\, emotional bids\, and relational patterns that contribute to both distress and resilience in partnerships. \nAttendees will learn techniques to help couples improve communication\, deepen understanding\, and build stronger relational bonds. \nTherapists will leave with actionable tools to guide couples toward healthier interactions\, emotional attunement\, and collaborative problem-solving. \nWorkshop Objectives:\n\nDevelop an understanding of foundational principles and theories that inform effective couples counseling.\nLearn strategies to assess relational patterns\, communication dynamics\, and attachment needs in couples.\nIdentify interventions to support improved communication\, emotional connection\, and collaborative problem-solving in partnerships.\n\nREGISTER HERE\n  \n 
URL:https://cascadia-training.com/course/lunch-learn-foundations-of-couples-counseling-june-2026/
LOCATION:Zoom
CATEGORIES:Lunch & Learns
ORGANIZER;CN="Dreya Blume%2C LCSW (she/her)":MAILTO:dreyablume@gmail.com
END:VEVENT
BEGIN:VEVENT
DTSTART;TZID=America/Los_Angeles:20260630T180000
DTEND;TZID=America/Los_Angeles:20260630T200000
DTSTAMP:20260423T154042
CREATED:20260223T183241Z
LAST-MODIFIED:20260311T172003Z
UID:44088-1782842400-1782849600@cascadia-training.com
SUMMARY:After Hours: Therapeutic Boundaries: The Ethics of Creating Clarity\, Safety\, and Trust in Clinical Work
DESCRIPTION:Meets Professional Roles & Boundaries \nCE requirements!\nAfter Hours: Therapeutic Boundaries: The Ethics of Creating Clarity\, Safety\, and Trust in Clinical Work\nPresented by: Dreya Blume\, LCSW\nWhen: Tuesday\, June 30th\, 2026| 6:00 PM – 8:00 PM\, Pacific Time\nWhere: Live on Zoom. You will receive your Zoom link/invitation the week of the workshop.\nContinuing Education Credit Hours: 2 Professional Roles and Boundaries CEs or Law & Ethics CEs | $50.00\nTherapeutic boundaries are the cornerstone of ethical and effective clinical practice\, providing a framework for clarity\, safety\, and trust within the therapeutic relationship. In this engaging workshop\, participants will explore the multifaceted role of boundaries in fostering healthy client interactions while safeguarding their professional integrity. \nThis training will address key themes such as boundary setting in diverse contexts\, navigating boundary crossings versus violations\, and handling potential ethical dilemmas with confidence and compassion. \nSpecific topics will include self-disclosure\, outside of office contact\, gift-giving\, dual relationships\, time management (beginning and ending sessions on time)\, sexual attraction\, and physical touch\, as well as social media policies and technology issues. In addition\, we will explore how a person’s cultural background can influence boundaries. \nParticipants will leave with practical tools to enhance self-awareness\, manage countertransference\, and ensure that their professional boundaries serve as a foundation for trust and transformation in their work. Whether you are a seasoned clinician or just beginning your career\, this workshop will provide valuable insights and actionable strategies to strengthen your practice. \nOBJECTIVES:\n\nExplain the difference between boundary crossings and boundary violations\nUnderstand the ethical importance of creating and maintaining healthy professional and personal boundaries in the therapeutic relationship\nIdentify how to communicate healthy boundaries to clients\n\nREGISTER HERE\n  \n 
URL:https://cascadia-training.com/course/after-hours-therapeutic-boundaries-june-2026/
LOCATION:Zoom
CATEGORIES:After Hours with Cascadia,Professional Roles & Boundaries
ORGANIZER;CN="Dreya Blume%2C LCSW (she/her)":MAILTO:dreyablume@gmail.com
END:VEVENT
END:VCALENDAR