BEGIN:VCALENDAR
VERSION:2.0
PRODID:-//Cascadia Training for Professional Development - ECPv6.15.20//NONSGML v1.0//EN
CALSCALE:GREGORIAN
METHOD:PUBLISH
X-WR-CALNAME:Cascadia Training for Professional Development
X-ORIGINAL-URL:https://cascadia-training.com
X-WR-CALDESC:Events for Cascadia Training for Professional Development
REFRESH-INTERVAL;VALUE=DURATION:PT1H
X-Robots-Tag:noindex
X-PUBLISHED-TTL:PT1H
BEGIN:VTIMEZONE
TZID:America/Los_Angeles
BEGIN:DAYLIGHT
TZOFFSETFROM:-0800
TZOFFSETTO:-0700
TZNAME:PDT
DTSTART:20250309T100000
END:DAYLIGHT
BEGIN:STANDARD
TZOFFSETFROM:-0700
TZOFFSETTO:-0800
TZNAME:PST
DTSTART:20251102T090000
END:STANDARD
BEGIN:DAYLIGHT
TZOFFSETFROM:-0800
TZOFFSETTO:-0700
TZNAME:PDT
DTSTART:20260308T100000
END:DAYLIGHT
BEGIN:STANDARD
TZOFFSETFROM:-0700
TZOFFSETTO:-0800
TZNAME:PST
DTSTART:20261101T090000
END:STANDARD
BEGIN:DAYLIGHT
TZOFFSETFROM:-0800
TZOFFSETTO:-0700
TZNAME:PDT
DTSTART:20270314T100000
END:DAYLIGHT
BEGIN:STANDARD
TZOFFSETFROM:-0700
TZOFFSETTO:-0800
TZNAME:PST
DTSTART:20271107T090000
END:STANDARD
END:VTIMEZONE
BEGIN:VEVENT
DTSTART;TZID=America/Los_Angeles:20260729T090000
DTEND;TZID=America/Los_Angeles:20260729T121500
DTSTAMP:20260425T035230
CREATED:20260219T184651Z
LAST-MODIFIED:20260219T184651Z
UID:44071-1785315600-1785327300@cascadia-training.com
SUMMARY:Ethics of Self-Disclosure: To Tell or Not To Tell
DESCRIPTION:Law & Ethics CEs\nEthics of Self-Disclosure: To Tell or Not To Tell\nPresented by: Diane Bigler\, LCSW\, LSCSW\nWhen: Wednesday\, July 29th\, 2026| 9:00 AM – 12:15 PM\, Pacific Time\nWhere: Live on Zoom. You will receive your Zoom link/invitation the week of the workshop.\nContinuing Education Credit Hours: 3 Law & Ethics CEs | $99.00\nWorkshop Description:\nWhat were you taught about self-disclosure to clients in grad school? Are you wondering whether or not to disclose “something” to your clients? Self-disclosure in therapy is complex and dynamic. During this workshop\, we will have our eye on ethics as we explore considerations for clinician self-disclosure to clients. Self-disclosure has several dimensions\, including clinical\, therapeutic\, technical\, and\, in some cases\, legal or regulatory. We will examine the nature of self-disclosure\, including potential benefits and risks. Attention will specifically be given to ethical considerations\, namely\, relevant ethical principles\, and a typology of self-disclosure using case vignettes. Finally\, key recommendations will be given for clinicians to consider in their course of self-disclosure opportunities. Clinicians will be encouraged to “know thyself” and their ethical responsibilities to best utilize the avenue of appropriate self-disclosure. \nWorkshop Objectives:\n\nComprehend and describe key aspects of therapeutic self-disclosure\, including potential benefits and risks.\nExamine and articulate key ethical considerations of self-disclosure\, including advantages and disadvantages.\nApply best practices for ethical and therapeutic self-disclosure by considering a variety of clinician and client factors.\n\nREGISTER HERE\n  \n 
URL:https://cascadia-training.com/course/ethics-of-self-disclosure-july-2026/
LOCATION:Zoom
CATEGORIES:Ethics
ORGANIZER;CN="Diane Bigler%2C LCSW%2C LSCSW (she/her)":MAILTO:diane4ku@yahoo.com
END:VEVENT
BEGIN:VEVENT
DTSTART;TZID=America/Los_Angeles:20260730T100000
DTEND;TZID=America/Los_Angeles:20260730T170000
DTSTAMP:20260425T035230
CREATED:20260424T164647Z
LAST-MODIFIED:20260424T164647Z
UID:44301-1785405600-1785430800@cascadia-training.com
SUMMARY:🆕 BRAND-NEW! The Ethics of Caring for Both the Body and the Psyche: A Two-Part Workshop 🆕
DESCRIPTION: Brand-New!\nLaw & Ethics CEs!\nThe Ethics of Caring for Both the Body and the Psyche: A Two-Part Workshop\nPresented by: Eric Ström\, PhD\, Attorney at Law\, LMHC and Dr. Kristen Allott\nWhen: Thursday\, July 30th\, 2026 | 10:00 am – 5:00 pm Pacific Time\nWhere: Live on Zoom. You will receive your Zoom link/invitation the week of the workshop.\nContinuing Education Credit Hours: 6 CEs – 3 are Law & Ethics CEs | $199.00\nThis two-session workshop offers the clinician a new holistic lens for approaching clients whose cognitive\, somatic\, and physical symptoms can very often be directly linked to dis-harmony between our bodies\, the foods we eat\, our polyvagal states\, and our Internal Family System (IFS) parts. \nMany mental health practitioners have been incorrectly told that discussing the physical body and its interactive systems will be viewed as operating “out of our lanes” or areas of competence. Because of this\, clinicians may avoid having all-important and life-altering discussions about the connection between our bodies and our psyche—how the foods we eat and our nutritional health impact not only our physical but also our mental health. \nTo address the reluctance of mental health practitioners to discuss the very real connection between the somatic and the cognitive\, the body and the psyche\, we have invited Eric Strom to present the first session of this two-session day. Eric Strom’s Law and Ethics training will address the law and ethics around the Scope of Practice as it applies to mental health practitioners. \nKristen Allott will then follow Eric Strom’s three-hour law and ethics training and present her unique\, effective approach to explaining why many highly motivated clients still cannot make lasting changes in their dietary habits. Kristen shares how our IFS parts and protectors could be causing the subconscious resistance to dietary changes that could fuel inner harmony. Kristen’s approach to finding inner harmony and health using both IFS parts work and polyvagal states has proven to be highly effective AND entertaining\, a truly novel holistic approach to providing therapy. Her afternoon session will be both informative and engaging as she combines her specialties in nutrition and mental health. You will never view dietary habits in quite the same way after hearing Kristen’s techniques for incorporating IFS and polyvagal states in finding and fueling inner harmony and lasting change. \nMORNING SESSION (10:00 AM – 1:00 PM Pacific Time): The Law and Ethics of Operating within Our Scope of Practice\nPresented by: Eric Ström\, PhD\, Attorney at Law\, LMHC\nAs behavioral health providers\, it is essential that we practice only within the legal scope of our clinical license. At the same time\, many clinicians find it difficult to identify clear boundaries around the scope of practice for their licensure. In this three-hour morning session of a two-session workshop\, we will focus on demystifying the legal\, ethical\, and practical boundaries with regard to clinical scope of practice. We will also consider areas in which clinicians are most likely to find themselves needed to extend or adjust those boundaries. This course is intended to meet law and ethics continuing education requirements. \nLearning Objectives:\nParticipants in this workshop will be able to: \n1)  Identify the legal standards that define the scope of clinical practice; \n2)  Describe the ethical standards that define clinical competency; \n3)  Create and evaluate strategies to support client best interest through consultation\, termination\, referral\, and coordination; \n4)  Apply best practice standards to engaging in advocacy activities for clients. \nAFTERNOON SESSION (2:00 PM – 5:00 PM Pacific Time):\nIntegrating Polyvagal Theory Ladder and Internal Family System with the Physiologic Needs of the Body to Maintain Physical and Mental Health\nPresented by: Dr. Kristen Allott\nIn the last 20 years\, Internal Family Systems\, Polyvagal Theory\, and somatic practices have offered new insights into mental health that mirror ancient systems\, such as Chinese medicine and Ayurvedic medicine\, in our understanding of what it means to be human. \nDr. Kristen Allott\, a naturopathic doctor with a master’s degree in acupuncture\, a black belt in Aikido\, and a Polyvagal practitioner\, will connect how our food choices influence the vagus system and impact our Internal Family System. \nIn this seminar\, we’ll delve into how our food choices profoundly influence both our vagus system and our internal family system. You’ll discover how the body itself can often manifest as an “exiled child\,’ how a “rebel” part might seek sugar for protection\, and how our “protectors” can wage war over what we “should” or “shouldn’t” eat. You will learn how\, by consciously fueling the prefrontal cortex\, we can access our compassionate\, creative Selves\, significantly reduce acute distress\, improve sleep quality\, and cultivate a much deeper connection to our bodies and ourselves. \nThis live virtual training equips clinicians with practical tools to manage acute emotional distress by integrating Polyvagal Theory\, Internal Family Systems (IFS)\, and nutrition-based interventions. Participants will learn to identify nervous system states and internal “parts” that arise during emotional reactivity and apply targeted strategies to support regulation. \nThe course explores how diet\, stress\, and glucose levels affect emotional stability and introduces rapid-response tools\, such as the Protein for All Initiative and Lizard Brain Treats\, to help clients shift out of fight\, flight\, freeze\, or collapse. These techniques are especially effective for anxiety\, anger\, mania\, emotional withdrawal\, and self-harm ideation. Through case examples\, interactive demonstrations\, and downloadable resources\, attendees will gain actionable methods to enhance therapeutic outcomes. The virtual format enables flexible participation and ongoing access to learning materials. \nLearning Objectives:\n\nLearn the Polyvagal Ladder and its relevance to emotional regulation and therapeutic engagement.\n\n\nLearn to apply IFS principles to identify and work with internal parts activated by physiological dysregulation.\n\n\nLearn how diet and stress impact glucose levels\, and how these fluctuations influence mood and behaviors.\n\n\nLearn to implement nutrition-based interventions to stabilize the nervous system and reduce emotional reactivity.\n\n\nLearn to utilize physiology-based calming techniques to support clients in acute reactive states.\n\nREGISTER HERE\n  \n 
URL:https://cascadia-training.com/course/ethics-of-caring-for-both-the-body-and-the-psyche-july-2026/
LOCATION:Zoom
CATEGORIES:Ethics
ORGANIZER;CN="Eric Str%C3%B6m%2C PhD%2C Attorney at Law%2C LMHC (he/him)":MAILTO:eric@strom-consulting.com
END:VEVENT
BEGIN:VEVENT
DTSTART;TZID=America/Los_Angeles:20260731T090000
DTEND;TZID=America/Los_Angeles:20260731T121500
DTSTAMP:20260425T035230
CREATED:20260219T185647Z
LAST-MODIFIED:20260219T185647Z
UID:44073-1785488400-1785500100@cascadia-training.com
SUMMARY:🆕BRAND-NEW! Stuck on Scroll: Clinical Strategies for Internet and Social Media Addiction 🆕
DESCRIPTION:🆕BRAND-NEW!🆕\nStuck on Scroll: Clinical Strategies for Internet and Social Media Addiction\nPresented by: Diane Bigler\, LCSW\, LSCSW\nWhen: Friday\, July 31st\, 2026| 9:00 AM – 12:15 PM\, Pacific Time\nWhere: Live on Zoom. You will receive your Zoom link/invitation the week of the workshop.\nContinuing Education Credit Hours: 3 CEs | $90.00\nWorkshop Description:\nAs screen time continues to rise across all age groups\, mental health professionals are seeing increasing impacts of internet\, social media\, and technology overuse on emotional\, relational\, and psychological well-being. This webinar equips clinicians with a practical\, research-informed understanding of screen addiction and problematic digital behaviors\, exploring how these issues manifest in clinical settings and what can be done to address them effectively. \nParticipants will examine recent data on prevalence and risk factors\, learn about the psychological and sociological mechanisms behind compulsive screen use (including social comparison\, algorithmic reinforcement\, and attachment dynamics)\, and gain tools to assess and treat clients struggling with digital overuse. The course offers evidence-based strategies—including CBT\, motivational interviewing\, and digital wellness planning—that can be integrated into therapeutic practice to help clients regain control\, set boundaries\, and develop healthier relationships with technology. \nWorkshop Objectives:\n\nIdentify signs and symptoms of problematic internet\, social media\, and screen use\, and distinguish between high engagement and clinically significant behavioral addiction.\nAnalyze the psychological\, neurological\, and sociocultural factors contributing to screen overuse\, including reward mechanisms\, social reinforcement\, and algorithmic design.\nImplement evidence-based clinical strategies to assess\, intervene\, and support clients in creating healthier digital habits and reducing screen-related distress.\n\nButton Text\n  \n 
URL:https://cascadia-training.com/course/tuck-on-scroll-clinical-strategies-for-internet-and-social-media-addiction-july-2026/
LOCATION:Zoom
ORGANIZER;CN="Diane Bigler%2C LCSW%2C LSCSW (she/her)":MAILTO:diane4ku@yahoo.com
END:VEVENT
BEGIN:VEVENT
DTSTART;TZID=America/Los_Angeles:20260731T093000
DTEND;TZID=America/Los_Angeles:20260731T170000
DTSTAMP:20260425T035230
CREATED:20260219T192838Z
LAST-MODIFIED:20260311T231012Z
UID:44077-1785490200-1785517200@cascadia-training.com
SUMMARY:Introduction to Nature Therapy: More than a Walk in the Park
DESCRIPTION:Law & Ethics CEs!\nIntroduction to Nature Therapy: More than a Walk in the Park\nPresented by: Becky Robbins\, MA\, LMHC\, CEAT\, CYT\, NBT \nWhen: Friday\, July 31\, 2026 | 9:30 AM – 5:00 PM\, Pacific Time\nWhere: Live\, In-Person event at Shoreline Center – at 12pm\, we will break for an hour lunch\, and will then reconvene at Hamlin Park\, located at 16006 15th Ave NE\, Shoreline\, WA\, at 1:00 for the remainder of the workshop\, which will be outdoors.\nContinuing Education Credit Hours: 6 CEs – 2 Law & Ethics CEs| $199.00\nAll 2026 Sessions of This Workshop:\n\n\nFriday\, March 13th\, 2026 MORE INFO & REGISTER >>>\n\n\nFriday\, June 5th\, 2026 MORE INFO & REGISTER >>>\n\n\nFriday\, July 31st\, 2026 MORE INFO & REGISTER >>>\n\n\nFriday\, October 2nd\, 2026 MORE INFO & REGISTER >>>\n\n\nThis Introduction to Nature Therapy: More than a Walk in the Park workshop allows participants to become familiar with nature-based therapy\, specifically\, what is involved in a “walk-and-talk” therapy session outdoors in a natural setting. Participants will become aware of the legal and ethical considerations necessary to provide this option for client sessions. Participants will learn the key concepts and significant benefits of providing therapy sessions outdoors\, in a natural setting\, complemented by using expressive arts modalities. The presenter will also teach how these approaches connect through a polyvagal lens. \nParticipants will learn what it takes to provide ethical\, impactful\, confident\, and competent therapy for clients in an outdoor natural setting. The presenter will teach participants how to include expressive arts modalities and somatic awareness techniques in nature therapy\, as these techniques will be interwoven throughout this daylong experience. Experientials will be facilitated to aid participants in their own embodied experience of a session in nature. Participants will leave this course ethically and legally prepared to facilitate an outdoor\, nature-based therapy session\, understanding the client appropriateness (what clients are a good fit for this type of therapy)\, location considerations (parks\, trails\, beaches\, weather conditions\, parking\, etcetera)\, and critical skills needed for facilitating a helpful walk-and-talk session outdoors (multidimensional awareness\, various approaches to facilitation\, and safety considerations). Participants will leave this experiential workshop feeling confident and inspired to offer a more integrated clinical approach than they thought possible! \nOBJECTIVES:\n\n Consider legal\, ethical\, and documentation implications for doing nature-based therapy outdoors.\n Identify important considerations for specific populations.\n Understand the legal and ethical considerations of practicing nature-based therapy in a walk-and-talk session.\n Describe differences among ecotherapy\, nature-based\, adventure-based\, and wilderness therapies.\n Identify key concepts of ecotherapy and nature-based therapy\n Assess who to work with and when\, where to go and why\, and what to expect and consider in various regions and environments when using nature-based therapy.\n Understand the therapist’s identity in nature-based versus ecotherapy practices.\n Introduce common types of nature-based approaches into walk-and-talk therapy sessions.\n\nREGISTER HERE
URL:https://cascadia-training.com/course/introduction-to-nature-therapy-july-2026/
LOCATION:Shoreline Center\, 18560 1st Ave NE\, Shoreline\, WA\, 98155\, United States
CATEGORIES:Ethics
ORGANIZER;CN="Becky Robbins%2C MA%2C LMHC%2C CEAT%2C CYT%2C NBT (she/her)":MAILTO:becky@innerphoenix.net
GEO:47.7655581;-122.327469
X-APPLE-STRUCTURED-LOCATION;VALUE=URI;X-ADDRESS=Shoreline Center 18560 1st Ave NE Shoreline WA 98155 United States;X-APPLE-RADIUS=500;X-TITLE=18560 1st Ave NE:geo:-122.327469,47.7655581
END:VEVENT
END:VCALENDAR