BEGIN:VCALENDAR
VERSION:2.0
PRODID:-//Cascadia Training for Professional Development - ECPv6.15.20//NONSGML v1.0//EN
CALSCALE:GREGORIAN
METHOD:PUBLISH
X-ORIGINAL-URL:https://cascadia-training.com
X-WR-CALDESC:Events for Cascadia Training for Professional Development
REFRESH-INTERVAL;VALUE=DURATION:PT1H
X-Robots-Tag:noindex
X-PUBLISHED-TTL:PT1H
BEGIN:VTIMEZONE
TZID:America/Los_Angeles
BEGIN:DAYLIGHT
TZOFFSETFROM:-0800
TZOFFSETTO:-0700
TZNAME:PDT
DTSTART:20250309T100000
END:DAYLIGHT
BEGIN:STANDARD
TZOFFSETFROM:-0700
TZOFFSETTO:-0800
TZNAME:PST
DTSTART:20251102T090000
END:STANDARD
BEGIN:DAYLIGHT
TZOFFSETFROM:-0800
TZOFFSETTO:-0700
TZNAME:PDT
DTSTART:20260308T100000
END:DAYLIGHT
BEGIN:STANDARD
TZOFFSETFROM:-0700
TZOFFSETTO:-0800
TZNAME:PST
DTSTART:20261101T090000
END:STANDARD
BEGIN:DAYLIGHT
TZOFFSETFROM:-0800
TZOFFSETTO:-0700
TZNAME:PDT
DTSTART:20270314T100000
END:DAYLIGHT
BEGIN:STANDARD
TZOFFSETFROM:-0700
TZOFFSETTO:-0800
TZNAME:PST
DTSTART:20271107T090000
END:STANDARD
END:VTIMEZONE
BEGIN:VEVENT
DTSTART;TZID=America/Los_Angeles:20260213T090000
DTEND;TZID=America/Los_Angeles:20260213T160000
DTSTAMP:20260422T184744
CREATED:20251118T220221Z
LAST-MODIFIED:20251118T220221Z
UID:43867-1770973200-1770998400@cascadia-training.com
SUMMARY:Kinky Sex Ed and Poly 101: A One-Day\, Two-Session Workshop
DESCRIPTION:Law & Ethics\, Health Equity\, or Cultural Competence CEs!\nKinky Sex Ed and Poly 101: A One-Day\, Two-Session Workshop\nPresented by: B Lourenco\, MA\, LMHC (she/her)\nWhen: Friday\, February 13th\, 2026| 9:00 AM – 4:00 PM Pacific Time\nWhere: Live on Zoom. You will receive your Zoom link/invitation the week of the workshop.\nContinuing Education Credit Hours: 6 Law & Ethics\, Health Equity\, or Cultural Competence CEs | Cost: $199.00 \nMorning Session: Kinky Sex Ed for Clinicians (9:00 AM – 12:00 PM\, Pacific) \nIn graduate school\, many programs offered a very limited education on human sexual development. The topics covered were largely typical\, normative experiences. This type of education leaves out so many other ways of being and leaves large gaps in our education about alternative ways of engaging with sex and relationships.  Both sessions of this one-day workshop–Kinky Sex Ed and Poly 101–are intended to help fill the gaps in clinical education and understanding. The goal is that the clinicians who attend will be more fully informed\, more inclusive in their approach\, and better able to support clients with “non-normative” sexual identities and experiences.  Kink refers to any sexual interest or behavior that is outside what is considered normative. Research indicates that many people have explored kinks at some point in their lives\, with many people having a kink as a core component of their sexual experiences. This course will identify common kink terms\, concepts\, and identities so that the clinicians who attend can better support kinky-identified clients. \nObjectives:\n\nLearn how kink is defined and connected to social constructs of normativity\nHave a basic understanding of common kink identities\nLearn basic kink terms and cultural norms\nKnow the differences between and among kinks\, fetishes\, and BDSM\nExplore how kinks develop and change over time and sexual development\nDefine healthy and ethical kink\nIdentify ethical concerns in kink culture\n\nAfternoon Session: Poly 101 for Clinicians (1:00 PM – 4:00 PM)\nIn graduate school\, many programs offered a very limited education on human sexual development\, and the topics covered were largely typical\, normative experiences. This type of education leaves out so many other ways of being and leaves large gaps in our education about alternate ways of engaging with sex and relationships. Kinky Sex Ed and Poly 101 are both intended to help fill the gaps in clinical education and understanding so that clinicians can be more informed and able to support clients with “non-normative” sexual identities and experiences. The socialization that prioritizes monogamy starts very early in Western culture\, with messages about faithfulness\, loyalty\, jealousy\, and love all being inexplicably intertwined. The reality is that–for many people–monogamy simply doesn’t work well for them. This course will explore key terms and concepts of Ethical Non-Monogamy (ENM) and how to offer support to our clients in the clinical setting. \nObjectives: \n\nLearn monogamous and non-monogamous relationship types\nExplore basic terms and concepts of ethical non-monogamy (ENM)\nIdentify the role of monogamy culture on all relationship types\nDefine the differences between envy\, jealousy\, and trauma responses when navigating ENM\nUnderstand common ethical concerns in ENM\nIdentify the benefits associated with non-monogamous relationship dynamics\n\nREGISTER HERE\n  \n  \n 
URL:https://cascadia-training.com/course/kinky-sex-ed-and-poly-101-february-2026/
LOCATION:Zoom
CATEGORIES:Cultural Competence,Ethics,Health Equity,Neurodiversity
ORGANIZER;CN="B Lourenco%2C MA%2C LMHC (she/her)":MAILTO:blourencotherapy@gmail.com
END:VEVENT
BEGIN:VEVENT
DTSTART;TZID=America/Los_Angeles:20260422T090000
DTEND;TZID=America/Los_Angeles:20260422T121500
DTSTAMP:20260422T184744
CREATED:20251220T002250Z
LAST-MODIFIED:20260409T164249Z
UID:43955-1776848400-1776860100@cascadia-training.com
SUMMARY:SPECIAL SALE! The Science of Gender & Resistance: Empowering Ourselves and Our Clients with Practical Neuroscience
DESCRIPTION:Last-Minute Deal! $30 Off!\nHealthy Equity or Cultural Competence CEs!\nThe Science of Gender & Resistance: Empowering Ourselves and Our Clients with Practical Neuroscience\nPresented by: Hannah Smith\, MA\, LMHC\, CGP\nWhen: Wednesday\, April 22\, 2026| 9:00 am – 12:15 pm Pacific Time\nWhere: Live on Zoom. You will receive workshop details the week of the workshop.\nContinuing Education Credit Hours: 3 Health Equity or Cultural Competence CEs | $95.00 NOW ONLY $65.00!\nGender is a hot-button topic these days\, for sure! There is so much dis- and misinformation out there. There is presently no societal consensus on the meaning of gender identity and the plethora of science behind this. Some people will even go so far as to say there is no science and that it’s “All (simply) about chromosomes.” \nMany of us know on a gut level this is not true\, but we cannot put what we know into words. In fact\, even doctors\, parents\, and transgender and non-binary people themselves can struggle to do so. \nThen\, even if we could explain it\, we face friends\, loved-ones\, and strangers who belittle\, dehumanize\, ignore\, or shut us down whenever we try to explain. Those who know little to nothing about gender will put their own world views over those of a multitude of experts – even to the point of attempting to erase and entire people group. \nAt a time when educating society on this important topic is at an all-time high\, the resistance we face is not only maddening\, it is downright traumatizing. In this training\, you will learn the actual (and abundant) science behind gender development.\nYou will learn to differentiate clearly between sex\, gender\, and orientation and how to articulate it all in a concise and coherent way. \nAND… \nYou will also learn the biology that underlies the resistance LGBTQIA+ people face when attempting to explain themselves. You will gain a new understanding of what is happening inside “the other side” so you or your clients can manage your own nervous system activation during these difficult discussions. Practical techniques will be added to this new understanding to help with emotion regulation and staying empowered. \nObjectives: \n\n1. List and describe the science of gender development and how it differs from sex\,\norientation\, and other aspects of identity\n2. Identify the neurobiological regions in the brain and body responsible for distortions\,\nimplicit bias\, and other psychological resistances\n3. Explain the neurobiological mechanisms of resistance with the aim of helping clients to\nmanage their own activation during difficult discussions\n4. Apply practical\, evidence-based techniques to manage activation and empower more\naccurate storytelling during difficult conversations\n\nREGISTER HERE\n  \n 
URL:https://cascadia-training.com/course/science-of-gender-april-2026/
LOCATION:Zoom
CATEGORIES:Autism Awareness Month 2026,Cultural Competence,Health Equity,Last-Minute Deals,Neurodiversity
ORGANIZER;CN="Hannah Smith MA%2C LMHC%2C CGP (she/her)":MAILTO:hannah@potentialfinders.com
END:VEVENT
END:VCALENDAR