BEGIN:VCALENDAR
VERSION:2.0
PRODID:-//Cascadia Training for Professional Development - ECPv6.15.20//NONSGML v1.0//EN
CALSCALE:GREGORIAN
METHOD:PUBLISH
X-WR-CALNAME:Cascadia Training for Professional Development
X-ORIGINAL-URL:https://cascadia-training.com
X-WR-CALDESC:Events for Cascadia Training for Professional Development
REFRESH-INTERVAL;VALUE=DURATION:PT1H
X-Robots-Tag:noindex
X-PUBLISHED-TTL:PT1H
BEGIN:VTIMEZONE
TZID:America/Los_Angeles
BEGIN:DAYLIGHT
TZOFFSETFROM:-0800
TZOFFSETTO:-0700
TZNAME:PDT
DTSTART:20250309T100000
END:DAYLIGHT
BEGIN:STANDARD
TZOFFSETFROM:-0700
TZOFFSETTO:-0800
TZNAME:PST
DTSTART:20251102T090000
END:STANDARD
BEGIN:DAYLIGHT
TZOFFSETFROM:-0800
TZOFFSETTO:-0700
TZNAME:PDT
DTSTART:20260308T100000
END:DAYLIGHT
BEGIN:STANDARD
TZOFFSETFROM:-0700
TZOFFSETTO:-0800
TZNAME:PST
DTSTART:20261101T090000
END:STANDARD
BEGIN:DAYLIGHT
TZOFFSETFROM:-0800
TZOFFSETTO:-0700
TZNAME:PDT
DTSTART:20270314T100000
END:DAYLIGHT
BEGIN:STANDARD
TZOFFSETFROM:-0700
TZOFFSETTO:-0800
TZNAME:PST
DTSTART:20271107T090000
END:STANDARD
END:VTIMEZONE
BEGIN:VEVENT
DTSTART;TZID=America/Los_Angeles:20260402T103000
DTEND;TZID=America/Los_Angeles:20260402T133000
DTSTAMP:20260421T093713
CREATED:20260115T230207Z
LAST-MODIFIED:20260115T231245Z
UID:43999-1775125800-1775136600@cascadia-training.com
SUMMARY:🆕 BRAND-NEW! AuDHD\, Personality Disorders\, and Dissociation 🆕
DESCRIPTION:BRAND-NEW!\nAutism Awareness Month Series\nHealth Equity or Cultural Competence CEs\nAuDHD\, Personality Disorders\, and Dissociation\nPresented by B Lourenco\, MA\, LMHC (she/her)\nWhen: Thursday\, April 2nd\, 2026 | 10:30 am – 1:30 pm Pacific Time\nWhere: Live via Zoom (you’ll receive the link the week of the workshop)\nContinuing Education Credit Hours: 3 Health Equity or Cultural Competency CEs | Cost: $99.00\nWith the overlap of certain mental health diagnoses being more common with ADHDers and Autistics\, it can get confusing to understand just what the distinctions are. When we add in the prevalence of trauma\, some of our cases get very complicated very quickly. This workshop will help clinicians make sense of complex scenarios where trauma and neurodivergence meet\, with a focus on Dissociative Identity Disorder (DID) and Borderline Personality Disorder (BPD). \nWORKSHOP OBJECTIVES:\nAfter this workshop\, participants will be able to: \n\nRecognize the prevalence of trauma in ND populations.\nDescribe ways that trauma impacts Neurodivergent individuals.\nIdentify and define Dissociative Identity Disorder and Borderline Personality Disorder through an affirming lens.\n\nREGISTER HERE\n  \n 
URL:https://cascadia-training.com/course/audhd-personality-disorders-dissociation-april-2026/
LOCATION:Zoom
CATEGORIES:Autism Awareness Month 2026,Cultural Competence,Health Equity,Neurodiversity
ORGANIZER;CN="B Lourenco%2C MA%2C LMHC (she/her)":MAILTO:blourencotherapy@gmail.com
END:VEVENT
BEGIN:VEVENT
DTSTART;TZID=America/Los_Angeles:20260409T103000
DTEND;TZID=America/Los_Angeles:20260409T133000
DTSTAMP:20260421T093713
CREATED:20260115T231608Z
LAST-MODIFIED:20260115T231608Z
UID:44001-1775730600-1775741400@cascadia-training.com
SUMMARY:🆕 BRAND-NEW! AuDHD and Family Systems 🆕
DESCRIPTION:BRAND-NEW!\nAutism Awareness Month Series\nHealth Equity or Cultural Competence CEs\nAuDHD and Family Systems \nPresented by B Lourenco\, MA\, LMHC (she/her)\nWhen: Thursday\, April 9th\, 2026 | 10:30 am – 1:30 pm Pacific Time\nWhere: Live via Zoom (you’ll receive the link the week of the workshop)\nContinuing Education Credit Hours: 3 Health Equity or Cultural Competency CEs | Cost: $99.00\nThere is a plethora of evidence that Autism and ADHD are likely genetic and neurodivergence runs in families. What does it mean to have neurodivergent traits that run through family lines? How does diagnosis or identification influence family stories? This course will address these questions while exploring common identities in Family Systems and how AuDHD traits may contribute to these familial legacies. \nWORKSHOP OBJECTIVES:\nAfter this course\, attendees will be able to: \n\nDescribe how parenting styles impact neurodivergent children.\nExplain how long-term family culture is defined by neurodivergence.\nExplore the ways that the ADHD and Autistic experience may shift over the lifetime.\n\nREGISTER HERE\n  \n 
URL:https://cascadia-training.com/course/audhd-and-family-systems-april-2026/
LOCATION:Zoom
CATEGORIES:Autism Awareness Month 2026,Cultural Competence,Health Equity,Neurodiversity
ORGANIZER;CN="B Lourenco%2C MA%2C LMHC (she/her)":MAILTO:blourencotherapy@gmail.com
END:VEVENT
BEGIN:VEVENT
DTSTART;TZID=America/Los_Angeles:20260410T090000
DTEND;TZID=America/Los_Angeles:20260410T163000
DTSTAMP:20260421T093713
CREATED:20260205T001710Z
LAST-MODIFIED:20260205T225253Z
UID:44038-1775811600-1775838600@cascadia-training.com
SUMMARY:🆕 BRAND-NEW! Living With AuDHD Overlaps 🆕
DESCRIPTION:BRAND-NEW!\nAutism Awareness Month Series\nLaw & Ethics\, Health Equity\, or Cultural Competence CEs\nLiving With AuDHD Overlaps\nPresented by B Lourenco\, MA\, LMHC (she/her)\nWhen: Friday\, April 10th\, 2026 | 9:00 am – 4:30 pm Pacific Time\nWhere: Live via Zoom (you’ll receive the link the week of the workshop)\nContinuing Education Credit Hours: 6 Law & Ethics\, Health Equity\, or Cultural Competency CEs | Cost: $199.00\nHold your hat\, folks\, because this is going to be a jam-packed day of learning! Spend the morning in didactic and small group learning with B Lourenco where she’ll provide a comprehensive overview of physical\, learning\, and mental health overlaps that commonly occur with AuDHD profiles. After lunch\, B will be joined by a few of her colleagues for a roundtable discussion\, during which class attendees can ask questions and receive collective answers from people who have made these topics their AuDHD special interests. Come nerd out with us; you don’t want to miss this unique learning opportunity! \nWORKSHOP OBJECTIVES\n\nDescribe the difference between innate and acquired forms of Neurodivergence\nIdentify at least 2 commonly co-occurring physical differences or diagnoses for AuDHD individuals\nIdentify at least 2 commonly occurring learning differences for AuDHD individuals\nIdentify at least 2 commonly occurring mental health concerns AuDHD individuals\nExplain why eating disorders and/or substance abuse may be more common for AuDHDers\nLearn ways to help your clients advocate for their care within the medical model system\n\nTopics covered: Dysautonomia\, Connective tissue related disorders\, MCAS\, Autoimmune Disorders\, Gut Health\, Pain disorders\, HSP\, Gifted/Exceptional minds\, Dyslexia\, Dyscalculia \nREGISTER HERE\n  \n 
URL:https://cascadia-training.com/course/living-with-audhd-overlaps-april-2026/
LOCATION:Zoom
CATEGORIES:Autism Awareness Month 2026,Cultural Competence,Ethics,Health Equity,Neurodiversity
ORGANIZER;CN="B Lourenco%2C MA%2C LMHC (she/her)":MAILTO:blourencotherapy@gmail.com
END:VEVENT
BEGIN:VEVENT
DTSTART;TZID=America/Los_Angeles:20260416T103000
DTEND;TZID=America/Los_Angeles:20260416T133000
DTSTAMP:20260421T093713
CREATED:20260204T200156Z
LAST-MODIFIED:20260204T200156Z
UID:44036-1776335400-1776346200@cascadia-training.com
SUMMARY:🆕 BRAND-NEW! What is PDA and How Is It Impacting My Practice?🆕
DESCRIPTION:BRAND-NEW!\nAutism Awareness Month Series\nLaw & Ethics\, Health Equity\, or Cultural Competence CEs\nWhat is PDA and How Is It Impacting My Practice?\nPresented by B Lourenco\, MA\, LMHC (she/her)\nWhen: Thursday\, April 16th\, 2026 | 10:30 am – 1:30 pm Pacific Time\nWhere: Live via Zoom (you’ll receive the link the week of the workshop)\nContinuing Education Credit Hours: 3 Law & Ethics\, Health Equity\, or Cultural Competency CEs | Cost: $99.00\nAlthough not currently recognized in the United States\, PDA is a neurodivergent profile that many people experience. Pervasive Demand Avoidance (PDA) is commonly misunderstood\, and this class will help clinicians identify this profile and how to support PDA in an affirming way. \nWORKSHOP OBJECTIVES:\n\nExplore Pervasive Drive for Autonomy (or\, from the medical model\, Pathological Demand Avoidance) from an ND-affirming lens\nLearn the social implications of PDA through both the medical and ND-affirming models\n\nREGISTER HERE\n  \n 
URL:https://cascadia-training.com/course/what-is-pda-april-2026/
LOCATION:Zoom
CATEGORIES:Autism Awareness Month 2026,Cultural Competence,Ethics,Health Equity,Neurodiversity
ORGANIZER;CN="B Lourenco%2C MA%2C LMHC (she/her)":MAILTO:blourencotherapy@gmail.com
END:VEVENT
END:VCALENDAR