BEGIN:VCALENDAR
VERSION:2.0
PRODID:-//Cascadia Training for Professional Development - ECPv6.15.20//NONSGML v1.0//EN
CALSCALE:GREGORIAN
METHOD:PUBLISH
X-WR-CALNAME:Cascadia Training for Professional Development
X-ORIGINAL-URL:https://cascadia-training.com
X-WR-CALDESC:Events for Cascadia Training for Professional Development
REFRESH-INTERVAL;VALUE=DURATION:PT1H
X-Robots-Tag:noindex
X-PUBLISHED-TTL:PT1H
BEGIN:VTIMEZONE
TZID:America/Los_Angeles
BEGIN:DAYLIGHT
TZOFFSETFROM:-0800
TZOFFSETTO:-0700
TZNAME:PDT
DTSTART:20250309T100000
END:DAYLIGHT
BEGIN:STANDARD
TZOFFSETFROM:-0700
TZOFFSETTO:-0800
TZNAME:PST
DTSTART:20251102T090000
END:STANDARD
BEGIN:DAYLIGHT
TZOFFSETFROM:-0800
TZOFFSETTO:-0700
TZNAME:PDT
DTSTART:20260308T100000
END:DAYLIGHT
BEGIN:STANDARD
TZOFFSETFROM:-0700
TZOFFSETTO:-0800
TZNAME:PST
DTSTART:20261101T090000
END:STANDARD
BEGIN:DAYLIGHT
TZOFFSETFROM:-0800
TZOFFSETTO:-0700
TZNAME:PDT
DTSTART:20270314T100000
END:DAYLIGHT
BEGIN:STANDARD
TZOFFSETFROM:-0700
TZOFFSETTO:-0800
TZNAME:PST
DTSTART:20271107T090000
END:STANDARD
END:VTIMEZONE
BEGIN:VEVENT
DTSTART;TZID=America/Los_Angeles:20260501T090000
DTEND;TZID=America/Los_Angeles:20260501T121500
DTSTAMP:20260421T061042
CREATED:20260219T173225Z
LAST-MODIFIED:20260219T180047Z
UID:44061-1777626000-1777637700@cascadia-training.com
SUMMARY:From Immigration to Homecoming: Supporting the Mental Health Needs of Immigrant Clients
DESCRIPTION:Law & Ethics\, Health Equity\, and/or \nCultural Competence CEs\nFrom Immigration to Homecoming: Supporting the Mental Health Needs of Immigrant Clients\nPart One of a Two-Part Series\n(though you don’t need to be registered for both to attend either)\nPart Two\, Cultural Humility in Working with Immigrant Clients\, is on Friday\, June 12th. Learn more and register here >>>\nPresented by: Dr. Gitika Talwar\nWhen: Friday\, May 1st\, 2026 | 9:00 AM – 12:15 PM\, Pacific Time\nWhere: Live on Zoom. You will receive your Zoom link/invitation the week of the workshop.\nContinuing Education Credit Hours: 3 Law & Ethics\, Health Equity\, and/or Cultural Competence CEs | $99.00\nWorkshop Description \nThis workshop focuses on the impact of immigration on the mental health of immigrants. It presents an opportunity for licensed therapists to learn about trauma-informed\, culturally-attuned therapeutic care to immigrant clients from all over the world. A quick web search about training programs about the mental health needs of immigrants reveals that there is limited knowledge and discussion in the mental health and psychology fields about the immigration process and the unique needs of immigrant communities based on their immigration pathways. \nImmigration status is a major factor that intersects with a range of other identity variables (Tahirih Justice Center\, 2023) and provides nuance to the inner world of immigrant clients\, especially those who may be new to therapy. \nMigration to the U.S. has grown steadily over the last few decades. Migration happens for reasons as varied as education and labor opportunities\, family reunification\, and escape from war\, persecution\, and other traumatic experiences. Whether by choice (“pull factors” that attract immigrants to the U.S.) or by necessity (“push factors” that necessitate migration out of their home countries)\, immigrants face a host of psychological and socioeconomic challenges and stressors during and after migrating. These profoundly affect their mental health and quality of life (Shea & Wong\, 2022). \nLicensed Clinical-Community Psychologist Dr. Gitika Talwar created and will present this workshop\, drawing on her personal experience as a first-generation immigrant and immigration activist and her professional experience working with international students\, first-generation immigrants\, refugees\, and asylum seekers in the United States. Dr. Talwar’s dissertation focused on the immigration experiences of people who migrated from Afghanistan to the U.S. between 1965 and 2012. \nObjectives: \n\nAttendees will reflect on their understanding and personal experience with immigration\nAttendees will gain knowledge about multiple pathways of immigration and access to resources\nAttendees will learn about neurobiological and psychosocial impact of migration\nAttendees will recognize ways to expand their therapeutic prompts and practices to include the needs of the immigrant community\n\nREGISTER HERE\n  \n 
URL:https://cascadia-training.com/course/from-immigration-to-homecoming-may-2026/
LOCATION:Zoom
CATEGORIES:Cultural Competence,Ethics,Health Equity
END:VEVENT
BEGIN:VEVENT
DTSTART;TZID=America/Los_Angeles:20260504T120000
DTEND;TZID=America/Los_Angeles:20260504T133000
DTSTAMP:20260421T061042
CREATED:20260304T191359Z
LAST-MODIFIED:20260304T191359Z
UID:44135-1777896000-1777901400@cascadia-training.com
SUMMARY:🆕BRAND-NEW! Lunch & Learn: Post-Traumatic Growth: Finding Meaning and Strength After Trauma 🆕
DESCRIPTION:Brand-New!\nHealth Equity or Cultural Competence CEs!\nPost-Traumatic Growth: Finding Meaning and Strength After Trauma\nPresented by: Dreya Blume\, LCSW\nWhen: Monday\, May 4th\, 2026 | 12:00 pm – 1:30 pm Pacific Time\nWhere: Live on Zoom. You will receive your Zoom link/invitation the week of the workshop.\nContinuing Education Credit Hours (NBCC and NASW-WA Approved): 1.5 CEs Meets Criteria for Health Equity or Cultural Competence CEs | $25.00\nTrauma can profoundly disrupt a person’s life\, but it can also be a catalyst for growth\, resilience\, and transformation. This training introduces psychotherapists to the concept of posttraumatic growth\, exploring how individuals can discover new meaning\, strengths\, and possibilities after experiencing trauma. \nParticipants will learn to recognize the signs of growth alongside distress and understand the factors that support clients in moving toward personal development and empowerment. \nThrough case examples\, discussion\, and practical exercises\, attendees will explore therapeutic strategies to foster resilience\, facilitate meaning-making\, and help clients re-author their narratives in ways that honor their experiences while cultivating hope. \nTherapists will leave with tools to guide clients toward integrating trauma into their life story\, promoting healing\, insight\, and renewed purpose. \nWorkshop Objectives:\n\nDevelop an understanding of the concept of post-traumatic growth and its distinction from recovery or resilience.\nLearn strategies to help clients identify personal strengths\, meaning\, and opportunities for growth following trauma.\nIdentify interventions to facilitate narrative re-authoring\, meaning-making\, and resilience-building in trauma-affected clients.\n\nREGISTER HERE\n  \n 
URL:https://cascadia-training.com/course/post-traumatic-growth-may-2026/
LOCATION:Zoom
CATEGORIES:Cultural Competence,Health Equity,Lunch & Learns
ORGANIZER;CN="Dreya Blume%2C LCSW (she/her)":MAILTO:dreyablume@gmail.com
END:VEVENT
BEGIN:VEVENT
DTSTART;TZID=America/Los_Angeles:20260507T090000
DTEND;TZID=America/Los_Angeles:20260507T120000
DTSTAMP:20260421T061042
CREATED:20260216T181026Z
LAST-MODIFIED:20260216T181026Z
UID:44046-1778144400-1778155200@cascadia-training.com
SUMMARY:🆕BRAND-NEW! Enduring Relationships: Connection-Driven Tools to Mitigate Separations & Transitions in Foster Care🆕
DESCRIPTION:BRAND-NEW!\nHealth Equity or Cultural Competence CEs!\nEnduring Relationships: Connection-Driven Tools to Mitigate Separations & Transitions in Foster Care\nPresented by: Kristie Baber\, MSW\, LICSW\, CCTP\nWhen: Thursday\, May 7th\, 2026 | 9:00 am – 12:00 pm Pacific Time\nWhere: Live on Zoom. You will receive your Zoom link/invitation the week of the workshop.\nContinuing Education Credit Hours: 3 Health Equity or Cultural Competence CEs | $90.00\nDespite Julia Robert’s assertion to Richard Gere in Pretty Woman\, home is NOT just geography. Most importantly\, it’s about relationships – the ones we build\, the ones we lose\, and the ones we nurture despite the challenges of distance or system involvement. \nDealing with the inherent issues of separation and transition in the foster care system\, this workshop will address ways to protect connections\, prioritize relationships\, and buffer the experience of loss. With a focus on our kids’ experience of the world\, we’ll explore the following: \n\nVisits\, separations\, and transitions with relationships as the focus\nUnique exposure to grief & loss\nHealthy transitions with tools & resources\nImpacts of placement moves at different stages\nEffective communication with children\nReconsideration of permanence\, family relationships & “open” adoption\n\nThe audience for this workshop includes mental health therapists\, social workers\, caregivers\, and any pediatric providers caring for system-involved children. There will be videos and case vignettes to illustrate\, as well as tons of tools and resources provided (because your jobs are hard enough!). \nREGISTER HERE\n  \n 
URL:https://cascadia-training.com/course/enduring-relationships-may-2026/
LOCATION:Zoom
CATEGORIES:Cultural Competence,Health Equity
END:VEVENT
BEGIN:VEVENT
DTSTART;TZID=America/Los_Angeles:20260513T090000
DTEND;TZID=America/Los_Angeles:20260513T163000
DTSTAMP:20260421T061042
CREATED:20250425T192128Z
LAST-MODIFIED:20260126T195156Z
UID:42752-1778662800-1778689800@cascadia-training.com
SUMMARY:Body Justice: Addressing Sizeism and Fear of Fat
DESCRIPTION:Health Equity or Cultural Competence CEs!\nBody Justice: Addressing Sizeism and Fear of Fat\nPresented by: Amber Rice\, LMFT\, MA\nWhen: Wednesday\, May 13\, 2026 | 9:00 am – 4:30 pm Pacific Time\nWhere: Live on Zoom. You will receive your Zoom link/invitation the week of the workshop.\nContinuing Education Credit Hours: 6 CEs – counts toward Health Equity requirements and Cultural Competence requirements| $199.00\nTherapists are becoming increasingly aware of the harm that has been/is being done to clients when healthcare settings (including counseling practices) focus on weight and weight loss as a primary goal.  Most therapists\, however\, have not been trained in how to have conversations with their clients about body shame\, weight stigma\, healthism\, diet culture\, and sizeism. How\, then\, do therapists help clients heal body shame in a weight-obsessed world when our culture is obsessed with weight being an indicator of health?   This course introduces therapists to practical resources\, knowledge\, empowering interventions\, and the language needed to help challenge weight stigma\, connect weight stigma and negative health outcomes\, and support clients toward weight-neutral and compassionate self-care. \nMany providers have increased their awareness of the need to adjust their practice lens and use a more weight-inclusive\, fat-positive approach to addressing food and body issues. Mental health clinicians have become increasingly aware of the expanding body of research that says intentional weight loss and dieting just don’t work\, and find themselves no longer ethically comfortable participating in diet culture. Therapists understand that supporting clients in weight loss or lifestyle changes (even for health reasons) is frequently emotionally and metabolically damaging\, is not trauma-informed\, often results in eating disorders and poor health outcomes\, and is rooted in weight bias and the body hierarchy.  Ethical\, culturally competent mental health practitioners want to know how to help their clients have a more peaceful relationship with food and their bodies.  However\, even the best-intentioned clinician finds that the cultural climate of weight stigma is so prevalent in both medical and mental health fields that they don’t even know where to begin. \nThis course will help therapists have conversations about bodies\, weight\, and health without contributing to the body shaming and size bias that is commonplace in healthcare settings. Amber will introduce participants to knowledge that will help them ethically and compassionately address the impacts of weight stigma with their clients.  Workshop attendees will learn ways to help their clients reduce body shame\, improve their relationship with food\, and invite more satisfaction and joy in their lives in a culturally competent way so they can be more resilient and confident in their own skin. \nObjectives:\n\nDiscuss the use of “fat” as a reclaimed term\, ask for the avoidance of the “O” words (obese\, overweight)\, the use of “numbers” to describe weight\, and other guidelines to avoid microaggressions that may take place during the workshop.\nPresent research studies and lived experiences that provide evidence for the need to practice with a weight-inclusive approach.\nTeach the core values and principles of Health at Every Size and Body Trust approaches.\nProvide an overview of the HAES and Body Trust approaches\, along with practical clinical interventions for clients seeking a more peaceful relationship with food and their bodies.\nDiscuss with participants the ethical considerations and dilemmas present in the current medical and mental health models that support weight loss for health purposes.\nOffer a pathway toward becoming more culturally competent\, with an adjusted lens that actively seeks to eliminate implicit and explicit bias in assessment\, treatment\, and orientation.\nList action steps that participants can employ to create a more weight-neutral practice.\nAsk attendees to acknowledge possible body (thin) privilege.\nEvaluate therapeutic spaces and environments to ensure they are fat-friendly and free of pathologizing magazines and stigmatizing language/media/magazines.\nAdvocate for self-examination for fatphobia and anti-fat bias.\nIncrease the visibility of fat people and scour websites and waiting rooms for diet culture.\n\nREGISTER HERE\n  \n  \n 
URL:https://cascadia-training.com/course/body-justice-may-2026/
LOCATION:Zoom
CATEGORIES:Cultural Competence,Health Equity,Neurodiversity
ORGANIZER;CN="Amber Rice%2C LMFT%2C MA (she/her)":MAILTO:amber@amberrice.org
END:VEVENT
BEGIN:VEVENT
DTSTART;TZID=America/Los_Angeles:20260518T090000
DTEND;TZID=America/Los_Angeles:20260518T121500
DTSTAMP:20260421T061042
CREATED:20260116T225525Z
LAST-MODIFIED:20260116T225525Z
UID:44012-1779094800-1779106500@cascadia-training.com
SUMMARY:Trauma-Informed Approaches to Addiction and Loss
DESCRIPTION:Health Equity or Cultural Competence CEs!\nTrauma-Informed Approaches to Addiction and Loss\nPresented by: Diane Bigler\, LCSW\, LSCSW\nWhen: Monday\, May 18th\, 2026| 9:00 AM – 12:15 PM\, Pacific Time\nWhere: Live on Zoom. You will receive your Zoom link/invitation the week of the workshop.\nContinuing Education Credit Hours: 3 CEs – counts as Health Equity or Cultural Competence CEs | $99.00 \nAddiction treatment requires clinicians to be knowledgeable about trauma-informed approaches and the impact of loss on addiction. This workshop will present an overview of trauma-informed approaches\, including the three E’s of trauma. The relationship between loss and addiction will be explored. \nClinicians will have information on how to ask about trauma and the ways to assess trauma\, loss\, and spirituality in a clinical setting. Trauma-informed interventions presented include dealing with trauma reminders\, somatic experiencing\, and appropriate trauma-informed questioning. Learners will discover new perspectives on addiction and loss and obtain valuable resources and clinical recommendations. \nWorkshop Objectives:\n\nExplain the clinical and relational dynamics of trauma and loss in addiction.\nDiscover methods of assessing trauma and loss in addiction.\nIdentify at least three therapeutic interventions to support clients in addiction recovery.\n\nREGISTER HERE\n  \n 
URL:https://cascadia-training.com/course/trauma-informed-approaches-to-addiction-and-loss-may-2026/
LOCATION:Zoom
CATEGORIES:Cultural Competence,Health Equity
ORGANIZER;CN="Diane Bigler%2C LCSW%2C LSCSW (she/her)":MAILTO:diane4ku@yahoo.com
END:VEVENT
BEGIN:VEVENT
DTSTART;TZID=America/Los_Angeles:20260520T100000
DTEND;TZID=America/Los_Angeles:20260624T131500
DTSTAMP:20260421T061042
CREATED:20251118T191216Z
LAST-MODIFIED:20251204T213233Z
UID:43849-1779271200-1782306900@cascadia-training.com
SUMMARY:Becoming a Neurodivergent-Affirming Clinician: Understanding ADHD and Autism through a Strengths-Based\, Neurodivergent-Affirming Lens
DESCRIPTION:Law & Ethics\, Health Equity\,\nand Cultural Competence CEs!\nBecoming a Neurodivergent-Affirming Clinician: Understanding ADHD and Autism through a Strengths-Based\, Neurodivergent-Affirming Lens\nPresented by: B Lourenco\, MA\, LMHC\nWhen:  This course will be held for six consecutive Wednesdays: May 20th through June 24th\, 2026\, from 10:00 am – 1:15 pm Pacific / 1:00 pm – 4:15 pm Eastern\n\nWednesday\, May 20th\, 2026 | 10:00 am – 1:15 pm Pacific / 1:00 pm – 4:15 pm Eastern\nWednesday\, May 27th\, 2026 | 10:00 am – 1:15 pm Pacific / 1:00 pm – 4:15 pm Eastern\nWednesday\, June 3rd\, 2026 | 10:00 am – 1:15 pm Pacific / 1:00 pm – 4:15 pm Eastern\nWednesday\, June 10th\, 2026 | 10:00 am – 1:15 pm Pacific / 1:00 pm – 4:15 pm Eastern\nWednesday\, June 17th\, 2026 | 10:00 am – 1:15 pm Pacific / 1:00 pm – 4:15 pm Eastern\nWednesday\, June 24th\, 2026 | 10:00 am – 1:15 pm Pacific / 1:00 pm – 4:15 pm Eastern\n\nWhere: Live on Zoom. You will receive your Zoom link/invitation the week of the event.\n18 CEs (12 CEs can be used for Cultural Competence or Health Equity CEs\, and 6 can be used for Law & Ethics CEs) | $599.00 *** (see below for payment options)\nAs technology progresses and education on mental health becomes increasingly more available\, the population has become more self-aware. The world is changing quickly\, and with it\, more and more people realize that their brain works differently than others. Due to the influence of social media and the shift to focusing on lived experience as a legitimate means of diagnosis\, we are seeing a sudden increase in clients that identify as Autistic and/or an ADHDer. We find that clients are speaking up and finding validation of what they have always known: their brains operate differently than the brains of their peers\, colleagues\, friends\, and families. As a result\, we are seeing a sudden increase in the young adult and middle-aged population who identify as being Neurodivergent in a Neurotypical world. \nThis workshop series is designed to help clinicians build greater awareness and familiarity with ADHD and Autistic experiences. Participants will come away from this course with a deeper understanding of ADHD and Autism from the Neurodiversity-Affirming Paradigm that focuses on strengths and differences\, not diagnoses\, disorders\, and deficits. \nEspecially following the Covid pandemic and its sometimes long-term impact on the brain and the immune system’s inflammatory processes\, many clients report having different and often challenging sensory processing experiences. We are seeing more adults presenting in our offices with reports that they now have issues not only with taste and smell but with a range of visual\, hearing\, tactile\, balance\, and internal bodily sensations they never have before experienced\, as well as difficulties with attention and memory. This begs the question: have these brain differences always been there but now have been sensitized or magnified by exposure to Covid and months-long isolation? \nMany adults are now recognizing they are not alone and are demanding they not be dismissed or invalidated any longer\, often having experienced the continued frustration of providers questioning their own lived experiences and\, as a result\, having been either undiagnosed or underdiagnosed due to outdated and debunked diagnostic criteria still used by mainstream psychiatrists and physicians. These individuals are finding validation for what they have suspected all along: their brains work differently than those of their peers\, families\, and friends. \nWith new research available and an increasingly empowered clientele\, we see more than ever the need to remain current in our understanding of–and support for–those who have brain differences. Committed to blending cutting-edge scientific evidence with the lived experiences of our clients\, Cascadia Training\, is delighted to offer a new workshop series designed to help clinicians build greater awareness and familiarity with ADHD and Autistic experiences. \nUpon completion of this series\, participants will have a deeper understanding of ADHD and Autism from the Neurodiversity Affirming Paradigm that focuses on strengths and differences\, not disorders\, diagnoses\, and deficits! \nWoven throughout the series are the law and ethics of working with neurodivergent clients\, including the danger of misdiagnoses\, and the harm of using biased\, outdated\, debunked diagnostic criteria leading to the under-diagnosis of ADHD and Autism spectrum experiences. In addition\, participants will learn about and identify pathologizing\, stigmatizing\, and harmful treatment protocols and clinical interventions still utilized by providers in educational\, physical\, and mental health professions. \nThis series uses a system developed explicitly by B Lourenco\, an expert on ADHD and Autism. The course focuses to a large degree on the internal\, lived experience of neurodiversity. Each of the six weekly sessions will include a didactic portion\, an experiential section\, and direct case consultation time. All modules will include lecture\, video\, and experiential segments. \nCertificate Program Weekly Modules: \nWeek One:  Sensory Systems  – Getting in touch with the sensory system is the most critical step in supporting neurodivergent clients. Sensory information can regulate emotional and physical experiences. In addition\, we will focus on using sensory profiles\, menus\, and diets to support day-to-day quality of life. \nWeek Two: Communication and Relationships – Understanding how those with Autism and ADHD communicate creates room for therapeutic connection. With this understanding\, we will dive into tools for managing meltdowns and shutdowns in an affirming way. \nWeek Three:  Attending and Executive Function – This module will explain why those with Autism and ADHD face challenges attending to their environment by addressing social expectations on perceptions of “functioning.” You will also learn how to use the client’s natural rhythms to support positive functionality. \nWeek Four:  Social Systems and Disability – Understanding how society directly impacts the lives of people with disabilities. We will focus on how clinicians can incorporate advocacy into their practice and tools to unlearn neurotypical values by connecting clients to personal values. \nWeek Five: Differentials and Comorbidities – This module will teach participants how to rule out or “dial in” on other mental health concerns or diagnoses. We will present comorbidities that exist with your neurodivergent clients and how to effectively support them in a non-stigmatizing way. The role of trauma and grief in the lived experience of clients who identify as neurodivergent will be discussed\, as well as the impact of these events on the developing brain. We will process how to best support the grief and disenfranchised losses felt by our autistic and ADHD clients and their families. \nWeek Six: The Use of Joy As a Tool Against Oppression. Creating celebrations of being neurodivergent and finding joy in everyday life as we partner with our neurodivergent clients. The Neurodivergent-affirming certificate program series will conclude with various celebrations we can share with our clients and the shift to viewing “joy itself as a tool against oppression.” As clinicians\, it is important for us to first comprehend–and then share– the ways that society benefits from neurodiversity in general and ADHD and Autism\, in particular. We will conclude by learning ways to help our clients celebrate their neurodiversity and see themselves through an affirming\, strengths-based lens. \nOther topics that will be covered in this practice- and life-altering certificate program series include\, but are not limited to: \n\nAlexithymia and Dysthymia\nARFID\nMisophonia\nGender and sexuality in the ADHD and Autistic communities\nThe role of menstruation on ADHD and Autistic brains\nInterdependence vs codependence and/or independence\nMyths and stigmas about neurodivergent people\nExperiences of abuse in neurodivergent people\nPervasive Desire for Autonomy (PDA)\n\n***Payment Options:\nCascadia Training values quality continuing education that is accessible\, inclusive\, and without barriers to all. We never want the cost of our workshops to be a barrier to attending one of our workshops\, particularly our multi-session workshops. \nWe offer several options to make our workshops cost-inclusive: payment plans\, a limited number of full and partial scholarships\, discounts for students\, and discounts for early professionals. Please email us at hello@cascadiatraining.org for more information. \nFor payment plans\, you can select paying 50% today and 50% due on June 30\, 2026. \nREGISTER HERE\n  \n 
URL:https://cascadia-training.com/course/becoming-a-neurodivergent-affirming-clinician-may-2026/
LOCATION:Zoom
CATEGORIES:Cultural Competence,Ethics,Health Equity,Neurodiversity
ORGANIZER;CN="B Lourenco%2C MA%2C LMHC (she/her)":MAILTO:blourencotherapy@gmail.com
END:VEVENT
END:VCALENDAR